Workbook

Sheet Summary (P)
A1: =Setup!$B$2 -> Character's name | B1: =IF(Setup!$B$4>"",Setup!$B$4,"Non-mage") -> Non-mage | F1: ="Social: "&Setup!$B$10&". "&Setup!$B$11 -> Social: Adventurer. 5th | N1: Damage Tracking | Q1: Other Bonuses and Protections
A2: =Setup!$B$5&" "&Setup!$B$3&", "&Setup!$B$7&", "&Setup!$B$8&", PB "&Stats!K3 -> Male Human, 5' 9", 150 lbs, PB 15 | E2: Aspect: | F2: =Setup!$B$9 -> 0 | J2: Primary Hand: | L2: =Setup!B6 -> Right | N2: =Combat!$A$1 -> FT Dam | O2: =Combat!$A$2 -> EN Dam | P2: Status | Q2: =Bonuses!$U$3&"% "&Bonuses!$U$2 -> 0% Magic Resistance vs Demonics
A3: =""&IF((Bonuses!V3+Bonuses!AP3)<>0," Magic DR "&Bonuses!V3+Bonuses!AP3,"")&IF(Bonuses!BK3<>0," Necrogeny "&Bonuses!BK3,"")&IF(Bonuses!BL3<>0," Reactions +"&Bonuses!BL3&"%","") | C3: =Stats!B1 -> PS | D3: =Stats!C1 -> MD | E3: =Stats!D1 -> AG | F3: =Stats!E1 -> MA | G3: =Stats!F1 -> WP | H3: =Stats!G1 -> EN | I3: =Stats!H1 -> FT | J3: =Stats!I1 -> PC | ... L3: =Stats!K1 -> PB | N3: ='Attack Rolls'!C25+'Attack Rolls'!D25+'Attack Rolls'!G25 -> 0 | O3: ='Attack Rolls'!E25+'Attack Rolls'!F25+'Attack Rolls'!H25 -> 0 | P3: =Combat!$C$1&Combat!$C$2 | Q3: =Bonuses!$BL$3&"% to "&Bonuses!$BL$2 -> 0% to Reaction Checks
C4: =Stats!B3 -> 15 | D4: =Stats!C3 -> 13 | E4: =Stats!D3 -> 11 | F4: =Stats!E3 -> 15 | G4: =Stats!F3 -> 15 | H4: =Stats!G3 -> 15 | I4: =Stats!H3 -> 20 | J4: =Stats!I3 -> 5 | ... L4: =Stats!K3 -> 15 | N4: Damage Protection Breakdown | Q4: =Bonuses!$BH$3&"% to "&Bonuses!$BH$2 -> 0% to Infection Chance
B5: =Stats!A4 -> 1x | C5: =Stats!B4 -> 15 | D5: =Stats!C4 -> 13 | E5: =Stats!D4 -> 11 | F5: =Stats!E4 -> 15 | G5: =Stats!F4 -> 15 | H5: =Stats!G4 -> 15 | J5: =Stats!I4 -> 5 | L5: Combat | N5: =Bonuses!$AN$3&" "&Bonuses!$AN$2 -> 5 Armour Protection vs Fatigue dmg | Q5: =Bonuses!$BF$3&" "&Bonuses!$BF$2 -> 0 Bleeding dmg/pulse Mod
B6: =Stats!A5 -> 2x | C6: =Stats!B5 -> 30 | D6: =Stats!C5 -> 26 | E6: =Stats!D5 -> 22 | F6: =Stats!E5 -> 30 | G6: =Stats!F5 -> 30 | H6: =Stats!G5 -> 30 | J6: =Stats!I5 -> 10 | L6: Encum | N6: =Bonuses!$AO$3&" "&Bonuses!$AO$2 -> 0 Armour Protection vs Endurance dmg | Q6: =Bonuses!$BG$3&" "&Bonuses!$BG$2 -> 0 Poison dmg/pulse Mod
B7: =Stats!A6 -> 3x | C7: =Stats!B6 -> 45 | D7: =Stats!C6 -> 39 | E7: =Stats!D6 -> 33 | F7: =Stats!E6 -> 45 | G7: =Stats!F6 -> 45 | H7: =Stats!G6 -> 45 | J7: =Stats!I6 -> 15 | L7: =ROUND(Bonuses!$C$3,1)&" lbs" -> 25 lbs | N7: =Bonuses!$AQ$3&" "&Bonuses!$AQ$2 -> 0 Damage Reduction vs Physical
B8: =Stats!A7 -> 4x | C8: =Stats!B7 -> 60 | D8: =Stats!C7 -> 52 | E8: =Stats!D7 -> 44 | F8: =Stats!E7 -> 60 | G8: =Stats!F7 -> 60 | H8: =Stats!G7 -> 60 | J8: =Stats!I7 -> 20 | K8: =IF(ISERROR(Combat!$L$1*1),"",Combat!$K$1) | L8: =IF(ISERROR(Combat!$L$1*1),"",Combat!$L$1) | N8: =Bonuses!$AP$3&" "&Bonuses!$AP$2 -> 0 Damage Reduction vs All
B9: =Stats!A8 -> 5x | C9: =Stats!B8 -> 75 | D9: =Stats!C8 -> 65 | E9: =Stats!D8 -> 55 | F9: =Stats!E8 -> 75 | G9: =Stats!F8 -> 75 | H9: =Stats!G8 -> 75 | J9: =Stats!I8 -> 25 | K9: =IF(ISERROR(Combat!$L$2*1),"",Combat!$K$2) | L9: =IF(ISERROR(Combat!$L$2*1),"",Combat!$L$2) | N9: =Bonuses!$V$3&" "&Bonuses!$V$2 -> 0 Damage Reduction vs Magic | Q9: =Bonuses!$BI$3&"% "&Bonuses!$BI$2 -> 0% Fear Resistance Rolls
A10: Magic Resistance % | B10: =Combat!$I$1 -> 35 | C10: =IF(Bonuses!U3<>0,"+"&Bonuses!U3&" v Dem.","") | E10: =Combat!$E$2 -> Dmg to Stun: | F10: =Combat!$G$2 -> 6 | H10: =Combat!$E$1 -> Stun Rec % | I10: =Combat!$G$1 -> 50 | K10: Parry | L10: ="+"&Combat!W1 -> +0 | N10: =Bonuses!$BK$3&" "&Bonuses!$BK$2 -> 0 Necrogeny | Q10: =Bonuses!$BJ$3&"% "&Bonuses!$BJ$2 -> 0% Fear Table Roll
A11: =Combat!$A$5 -> Armour (AP) Ft/En | B11: =Combat!$B$5 -> 5 / 0 | E11: =Combat!$E$3 -> Dmg to -1: | F11: =Combat!$G$3 -> 35 | H11: =Combat!H2 -> Die At | I11: =Combat!$I$2 -> -8 | N11: =Bonuses!$W$3&" "&Bonuses!$W$2 -> 0 Damage Reduction vs Elemental
A12: =Combat!$A$3 -> Unengaged IV | B12: =Combat!$B$3 -> 5 + D10 | E12: =Combat!$H$3 -> .. to kill | F12: =Combat!$I$3 -> 43 | J12: =Combat!J3 -> (Shield) | K12: =Combat!K3 -> (Evade) | N12: =Bonuses!$X$3&" "&Bonuses!$X$2 -> 0 Damage Reduction vs Cold/Ice | Q12: =Bonuses!$AA$3+(Bonuses!$Z$3*5)&"°C Cold Protection ("&Bonuses!$AA$3&"°C & "&Bonuses!$Z$3&" Gauges)" -> 0°C Cold Protection (0°C & 0 Gauges)
A13: =Combat!A4 -> Defence | B13: =Combat!B4 -> 11 | D13: =Combat!D4 -> 11 | E13: =Combat!E4 -> 11 | F13: =Combat!$F$4 -> +10-10 | G13: =Combat!G4 -> 11 | I13: =Combat!I4 -> 11 | J13: =Combat!J4 -> 11 | K13: =Combat!K4 -> +20 | N13: =Bonuses!$Y$3&" "&Bonuses!$Y$2 -> 0 Damage Reduction vs Fire/Heat | Q13: =Bonuses!$AC$3+(Bonuses!$AB$3*5)&"°C Heat Protection ("&Bonuses!$AC$3&"°C & "&Bonuses!$AB$3&" Gauges)" -> 0°C Heat Protection (0°C & 0 Gauges)
C14: =Combat!C5 -> Melee | E14: =Combat!E5 -> (Shield) | F14: =Combat!F5 -> (Evade) | G14: =Combat!G5 -> Close | I14: =Combat!I5 -> Ranged
A15: =Combat!A6 -> Weapon | B15: =Combat!B6 -> Rk | C15: =Combat!C6 -> IV | D15: =Combat!D6 -> SC% | E15: =Combat!E6 -> Dam | F15: =Combat!F6 -> Class | G15: =Combat!G6 -> IV | H15: =Combat!H6 -> SC | ... L15: =Combat!L6 -> Evade+ | Q15: FT Recovery (per hour or meal) | R15: ="+ "&(IF(Stats!$G$3>20,CEILING((Stats!$G$3-20)/20,0.5),0)) -> + 0
A16: =Combat!A7 -> Unarmed | B16: =Combat!B7 -> Un | C16: =Combat!C7 -> 16 | D16: =Combat!D7 -> 22 | E16: =Combat!E7 -> -4 | F16: =Combat!F7 -> C | G16: =Combat!G7 -> 16 | H16: =Combat!H7 -> 22 | ... L16: =Combat!L7 -> 10 | Q16: FT per hour of Sleep | R16: =(3+IF(Stats!$G$3>20,CEILING((Stats!$G$3-20)/20,0.5),0))*IF(Bonuses!$A$118="Y",1.1,1) -> 3
A17: =Combat!A8&IF(Combat!Z8>""," ("&Combat!Z8&")","") -> Small Round | B17: =Combat!B8 -> Un | C17: =Combat!C8 -> 16 | D17: =Combat!D8 -> 40 | E17: =Combat!E8 -> -1 | F17: =Combat!F8 -> C | G17: =Combat!G8 | H17: =Combat!H8 | I17: =Combat!I8 | ... L17: =Combat!L8 -> 10 | Q17: Hours sleep to recover full FT: | R17: =I4/R16 -> 6.6666667
A18: =Combat!A9&IF(Combat!Z9>""," ("&Combat!Z9&")","") -> Battle Axe (1-2) | B18: =Combat!B9 -> Un | C18: =Combat!C9 -> 16 | D18: =Combat!D9 -> 60 | E18: =Combat!E9 -> 4 | F18: =Combat!F9 -> B | G18: =Combat!G9 | H18: =Combat!H9 | I18: =Combat!I9 -> 6 hx | ... L18: =Combat!L9 -> 10
A19: =Combat!A10&IF(Combat!Z10>""," ("&Combat!Z10&")","") -> Falchion | B19: =Combat!B10 -> Un | C19: =Combat!C10 -> 16 | D19: =Combat!D10 -> 50 | E19: =Combat!E10 -> 2 | F19: =Combat!F10 -> B | G19: =Combat!G10 | H19: =Combat!H10 | I19: =Combat!I10 | ... L19: =Combat!L10 -> 10
A20: =Combat!A11&IF(Combat!Z11>""," ("&Combat!Z11&")","") -> Dagger | B20: =Combat!B11 -> Un | C20: =Combat!C11 -> 16 | D20: =Combat!D11 -> 40 | E20: =Combat!E11 -> 1 | F20: =Combat!F11 -> A | G20: =Combat!G11 -> 16 | H20: =Combat!H11 -> 40 | I20: =Combat!I11 -> 8 hx | ... L20: =Combat!L11 -> 10
A21: =Combat!A12&IF(Combat!Z12>""," ("&Combat!Z12&")","") -> Tulwar | B21: =Combat!B12 -> Un | C21: =Combat!C12 -> 16 | D21: =Combat!D12 -> 50 | E21: =Combat!E12 -> 4 | F21: =Combat!F12 -> B | G21: =Combat!G12 | H21: =Combat!H12 | I21: =Combat!I12 | ... L21: =Combat!L12 -> 10
A22: =Combat!A13&IF(Combat!Z13>""," ("&Combat!Z13&")","") -> Sabre | B22: =Combat!B13 -> Un | C22: =Combat!C13 -> 16 | D22: =Combat!D13 -> 60 | E22: =Combat!E13 -> 3 | F22: =Combat!F13 -> B | G22: =Combat!G13 | H22: =Combat!H13 | I22: =Combat!I13 | ... L22: =Combat!L13 -> 10
A23: =Combat!A14&IF(Combat!Z14>""," ("&Combat!Z14&")","") -> Broadsword | B23: =Combat!B14 -> Un | C23: =Combat!C14 -> 16 | D23: =Combat!D14 -> 55 | E23: =Combat!E14 -> 4 | F23: =Combat!F14 -> B | G23: =Combat!G14 | H23: =Combat!H14 | I23: =Combat!I14 | ... L23: =Combat!L14 -> 10
A24: =Combat!A15&IF(Combat!Z15>""," ("&Combat!Z15&")","") -> Estoc | B24: =Combat!B15 -> Un | C24: =Combat!C15 -> 16 | D24: =Combat!D15 -> 45 | E24: =Combat!E15 -> 5 | F24: =Combat!F15 -> A | G24: =Combat!G15 | H24: =Combat!H15 | I24: =Combat!I15 | ... L24: =Combat!L15 -> 10
A25: =Combat!A16&IF(Combat!Z16>""," ("&Combat!Z16&")","") -> War Hammer | B25: =Combat!B16 -> Un | C25: =Combat!C16 -> 16 | D25: =Combat!D16 -> 45 | E25: =Combat!E16 -> 3 | F25: =Combat!F16 -> C | G25: =Combat!G16 | H25: =Combat!H16 | I25: =Combat!I16 -> 6 hx | ... L25: =Combat!L16 -> 10
A26: =Combat!A17&IF(Combat!Z17>""," ("&Combat!Z17&")","") -> Javelin | B26: =Combat!B17 -> Un | C26: =Combat!C17 -> 16 | D26: =Combat!D17 -> 45 | E26: =Combat!E17 -> 2 | F26: =Combat!F17 -> A | G26: =Combat!G17 | H26: =Combat!H17 | I26: =Combat!I17 -> 12 hx | ... L26: =Combat!L17 -> 10
A27: =Combat!A18&IF(Combat!Z18>""," ("&Combat!Z18&")","") -> Quarterstaff (2) | B27: =Combat!B18 -> Un | C27: =Combat!C18 -> 16 | D27: =Combat!D18 -> 55 | E27: =Combat!E18 -> 2 | F27: =Combat!F18 -> C | G27: =Combat!G18 | H27: =Combat!H18 | I27: =Combat!I18 | ... L27: =Combat!L18 -> 10
A28: =Combat!A19&IF(Combat!Z19>""," ("&Combat!Z19&")","") -> Flail | B28: =Combat!B19 -> Un | C28: =Combat!C19 -> 16 | D28: =Combat!D19 -> 50 | E28: =Combat!E19 -> 2 | F28: =Combat!F19 -> C | G28: =Combat!G19 | H28: =Combat!H19 | I28: =Combat!I19 | ... L28: =Combat!L19 -> 10
A29: =Combat!A20&IF(Combat!Z20>""," ("&Combat!Z20&")","") -> Hand & a Half (1-2) | B29: =Combat!B20 -> Un | C29: =Combat!C20 -> 16 | D29: =Combat!D20 -> 60 | E29: =Combat!E20 -> 3 | F29: =Combat!F20 -> B | G29: =Combat!G20 | H29: =Combat!H20 | I29: =Combat!I20 | ... L29: =Combat!L20 -> 10
A31: =INDIRECT("Magic!B"&ROW()-30,TRUE) -> E&E (Thaumaturgy) | B31: Rk | C31: % | D31: Dbl | E31: Trp | F31: Range | H31: Duration | J31: Effect
A32: =INDIRECT("Magic!A"&ROW()-30)&". "&INDIRECT("Magic!B"&ROW()-30) -> T1. Wizardsight | B32: =INDIRECT("Magic!C"&ROW()-30) -> 0 | C32: =INDIRECT("Magic!D"&ROW()-30) -> 0 | D32: =INDIRECT("Magic!E"&ROW()-30) -> 0 | E32: =INDIRECT("Magic!F"&ROW()-30) -> 0 | F32: =INDIRECT("Magic!G"&ROW()-30) -> 75/150 Feet | H32: =INDIRECT("Magic!H"&ROW()-30) -> 0 | J32: =INDIRECT("Magic!I"&ROW()-30) -> 0
A33: =INDIRECT("Magic!A"&ROW()-30)&". "&INDIRECT("Magic!B"&ROW()-30) -> G1. Charming | B33: =INDIRECT("Magic!C"&ROW()-30) -> 0 | C33: =INDIRECT("Magic!D"&ROW()-30) -> 15 | D33: =INDIRECT("Magic!E"&ROW()-30) -> 2.25 | E33: =INDIRECT("Magic!F"&ROW()-30) -> 0.75 | F33: =INDIRECT("Magic!G"&ROW()-30) -> 15 Feet | H33: =INDIRECT("Magic!H"&ROW()-30) -> 1 Hours | J33: =INDIRECT("Magic!I"&ROW()-30) -> 0
A34: =INDIRECT("Magic!A"&ROW()-30)&". "&INDIRECT("Magic!B"&ROW()-30) -> G2. Telekinesis | B34: =INDIRECT("Magic!C"&ROW()-30) -> 0 | C34: =INDIRECT("Magic!D"&ROW()-30) -> 20 | D34: =INDIRECT("Magic!E"&ROW()-30) -> 3 | E34: =INDIRECT("Magic!F"&ROW()-30) -> 1 | F34: =INDIRECT("Magic!G"&ROW()-30) -> 15 Feet | H34: =INDIRECT("Magic!H"&ROW()-30) -> 10 Secs | J34: =INDIRECT("Magic!I"&ROW()-30) -> Mv 2 lbs @ 2 TMR +0 lbs/0 TMR.
A35: =INDIRECT("Magic!A"&ROW()-30)&". "&INDIRECT("Magic!B"&ROW()-30) -> G3. Enchanted Sleep | B35: =INDIRECT("Magic!C"&ROW()-30) -> 0 | C35: =INDIRECT("Magic!D"&ROW()-30) -> 15 | D35: =INDIRECT("Magic!E"&ROW()-30) -> 2.25 | E35: =INDIRECT("Magic!F"&ROW()-30) -> 0.75 | F35: =INDIRECT("Magic!G"&ROW()-30) -> 15 Feet | H35: =INDIRECT("Magic!H"&ROW()-30) -> 1 Hours | J35: =INDIRECT("Magic!I"&ROW()-30) -> 0
A36: =INDIRECT("Magic!A"&ROW()-30)&". "&INDIRECT("Magic!B"&ROW()-30) -> G4. Walking Unseen | B36: =INDIRECT("Magic!C"&ROW()-30) -> 0 | C36: =INDIRECT("Magic!D"&ROW()-30) -> 40 | D36: =INDIRECT("Magic!E"&ROW()-30) -> 6 | E36: =INDIRECT("Magic!F"&ROW()-30) -> 2 | F36: =INDIRECT("Magic!G"&ROW()-30) -> 1 Feet | H36: =INDIRECT("Magic!H"&ROW()-30) -> 1 Hours | J36: =INDIRECT("Magic!I"&ROW()-30) -> 0
A37: =INDIRECT("Magic!A"&ROW()-30)&". "&INDIRECT("Magic!B"&ROW()-30) -> G5. Speaking to Enchanted Creatures | B37: =INDIRECT("Magic!C"&ROW()-30) -> 0 | C37: =INDIRECT("Magic!D"&ROW()-30) -> 40 | D37: =INDIRECT("Magic!E"&ROW()-30) -> 6 | E37: =INDIRECT("Magic!F"&ROW()-30) -> 2 | F37: =INDIRECT("Magic!G"&ROW()-30) -> 15 Feet | H37: =INDIRECT("Magic!H"&ROW()-30) -> 10 Mins | J37: =INDIRECT("Magic!I"&ROW()-30) -> 0
A38: =INDIRECT("Magic!A"&ROW()-30)&". "&INDIRECT("Magic!B"&ROW()-30) -> G6. Location | B38: =INDIRECT("Magic!C"&ROW()-30) -> 0 | C38: =INDIRECT("Magic!D"&ROW()-30) -> 15 | D38: =INDIRECT("Magic!E"&ROW()-30) -> 2.25 | E38: =INDIRECT("Magic!F"&ROW()-30) -> 0.75 | F38: =INDIRECT("Magic!G"&ROW()-30) -> 10 Miles | H38: =INDIRECT("Magic!H"&ROW()-30) -> 1 Hours | J38: =INDIRECT("Magic!I"&ROW()-30) -> 0
A39: =INDIRECT("Magic!A"&ROW()-30)&". "&INDIRECT("Magic!B"&ROW()-30) -> G7. Mass Charming | B39: =INDIRECT("Magic!C"&ROW()-30) -> 0 | C39: =INDIRECT("Magic!D"&ROW()-30) -> 5 | D39: =INDIRECT("Magic!E"&ROW()-30) -> 0.75 | E39: =INDIRECT("Magic!F"&ROW()-30) -> 0.25 | F39: =INDIRECT("Magic!G"&ROW()-30) -> 15 Feet | H39: =INDIRECT("Magic!H"&ROW()-30) -> Conc. No Max | J39: =INDIRECT("Magic!I"&ROW()-30) -> Charms Up to 1 Entities
A40: =INDIRECT("Magic!A"&ROW()-30)&". "&INDIRECT("Magic!B"&ROW()-30) -> G8. Invisibility | B40: =INDIRECT("Magic!C"&ROW()-30) -> 0 | C40: =INDIRECT("Magic!D"&ROW()-30) -> 45 | D40: =INDIRECT("Magic!E"&ROW()-30) -> 6.75 | E40: =INDIRECT("Magic!F"&ROW()-30) -> 2.25 | F40: =INDIRECT("Magic!G"&ROW()-30) -> 15 Feet | H40: =INDIRECT("Magic!H"&ROW()-30) -> 5 Mins | J40: =INDIRECT("Magic!I"&ROW()-30) -> 0
A41: =INDIRECT("Magic!A"&ROW()-30)&". "&INDIRECT("Magic!B"&ROW()-30) -> G9. Evil Eye | B41: =INDIRECT("Magic!C"&ROW()-30) -> 0 | C41: =INDIRECT("Magic!D"&ROW()-30) -> 20 | D41: =INDIRECT("Magic!E"&ROW()-30) -> 3 | E41: =INDIRECT("Magic!F"&ROW()-30) -> 1 | F41: =INDIRECT("Magic!G"&ROW()-30) -> 15 Feet | H41: =INDIRECT("Magic!H"&ROW()-30) -> 1 Days | J41: =INDIRECT("Magic!I"&ROW()-30) -> -1 from BC% & SC%
...

Sheet Attack Rolls
A1: Situational Dice Modifiers | B1: 0 | C1: SC% Mod | E1: Dice Mod: | F1: =-1-B1+S15 -> -1 | G1: (Lesser & Situational) | S1: Assassin
A2: Front | B2: IV | C2: % Roll | D2: D10(s) | E2: Hit By | F2: Dmg | G2: Def EN | H2: Def SG | J2: SC% | K2: Mod % Roll | L2: Dmg+ | M2: EN % | N2: SG % | Q2: Hex-Facing Modifiers: | R2: SC% | S2: Dice Mod | T2: Damage
A3: Melee: | C3: 0 | Q3: Front | R3: 0 | S3: =S4 -> 0 | T3: =T4 -> 0
A4: Unarmed | B4: =VLOOKUP($A4,'Summary (P)'!$A$16:$E$35,3,0) -> 16 | E4: =IF(C4="","",$J4-$K4) | F4: =IF(D4="","",D4+L4+$F$3+$T$15) | G4: =IF(C4="","",MAX(0,$J4-TRUNC($K4/$M4,0))) | H4: =IF(C4="","",MAX(0,$J4-($K4/$N4))) | I4: =VLOOKUP($A4,'Summary (P)'!$A$16:$E$35,5,0) -> -4 | J4: =VLOOKUP($A4,'Summary (P)'!$A$16:$E$35,4,0)+$C$3+$R$15 -> 22 | K4: =MAX(1,'Attack Rolls'!C4+$F$1) -> 1 | L4: =RIGHT(VLOOKUP($A4,'Summary (P)'!$A$16:$E$35,5,0),2) -> -4 | M4: 0.15 | N4: 0.05 | Q4: Flank | R4: 10 | S4: =TRUNC(S5/3,0) -> 0 | T4: =TRUNC(T5/3,0) -> 0
A5: ='Summary (P)'!A17 -> Small Round | B5: =VLOOKUP($A5,'Summary (P)'!$A$16:$E$35,3,0) -> 16 | E5: =IF(C5="","",$J5-$K5) | F5: =IF(D5="","",D5+L5+$F$3+$T$15) | G5: =IF(C5="","",MAX(0,$J5-TRUNC($K5/$M5,0))) | H5: =IF(C5="","",MAX(0,$J5-($K5/$N5))) | I5: =VLOOKUP($A5,'Summary (P)'!$A$16:$E$35,5,0) -> -1 | J5: =VLOOKUP($A5,'Summary (P)'!$A$16:$E$35,4,0)+$C$3+$R$15 -> 40 | K5: =MAX(1,'Attack Rolls'!C5+$F$1) -> 1 | L5: =RIGHT(VLOOKUP($A5,'Summary (P)'!$A$16:$E$35,5,0),2) -> -1 | M5: 0.15 | N5: 0.05 | Q5: Rear | R5: 30 | S5: ='Spec Grev'!$J$2*-1 -> 0 | T5: ='Spec Grev'!$J$2*1 -> 0
A6: ='Summary (P)'!A18 -> Battle Axe (1-2) | B6: =VLOOKUP($A6,'Summary (P)'!$A$16:$E$35,3,0) -> 16 | E6: =IF(C6="","",$J6-$K6) | F6: =IF(D6="","",D6+L6+$F$3+$T$15) | G6: =IF(C6="","",MAX(0,$J6-TRUNC($K6/$M6,0))) | H6: =IF(C6="","",MAX(0,$J6-($K6/$N6))) | I6: =VLOOKUP($A6,'Summary (P)'!$A$16:$E$35,5,0) -> 4 | J6: =VLOOKUP($A6,'Summary (P)'!$A$16:$E$35,4,0)+$C$3+$R$15 -> 60 | K6: =MAX(1,'Attack Rolls'!C6+$F$1) -> 1 | L6: =RIGHT(VLOOKUP($A6,'Summary (P)'!$A$16:$E$35,5,0),2) -> 4 | M6: 0.15 | N6: 0.05 | Q6: Surprise Front | R6: 0 | S6: ='Spec Grev'!$J$2*-2 -> 0 | T6: ='Spec Grev'!$J$2*2 -> 0
A7: ='Summary (P)'!A19 -> Falchion | B7: =VLOOKUP($A7,'Summary (P)'!$A$16:$E$35,3,0) -> 16 | E7: =IF(C7="","",$J7-$K7) | F7: =IF(D7="","",D7+L7+$F$3+$T$15) | G7: =IF(C7="","",MAX(0,$J7-TRUNC($K7/$M7,0))) | H7: =IF(C7="","",MAX(0,$J7-($K7/$N7))) | I7: =VLOOKUP($A7,'Summary (P)'!$A$16:$E$35,5,0) -> 2 | J7: =VLOOKUP($A7,'Summary (P)'!$A$16:$E$35,4,0)+$C$3+$R$15 -> 50 | K7: =MAX(1,'Attack Rolls'!C7+$F$1) -> 1 | L7: =RIGHT(VLOOKUP($A7,'Summary (P)'!$A$16:$E$35,5,0),2) -> 2 | M7: 0.15 | N7: 0.05 | Q7: Surprise Flank | R7: 10 | S7: =S6 -> 0 | T7: =T6 -> 0
A8: ='Summary (P)'!A20 -> Dagger | B8: =VLOOKUP($A8,'Summary (P)'!$A$16:$E$35,3,0) -> 16 | E8: =IF(C8="","",$J8-$K8) | F8: =IF(D8="","",D8+L8+$F$3+$T$15) | G8: =IF(C8="","",MAX(0,$J8-TRUNC($K8/$M8,0))) | H8: =IF(C8="","",MAX(0,$J8-($K8/$N8))) | I8: =VLOOKUP($A8,'Summary (P)'!$A$16:$E$35,5,0) -> 1 | J8: =VLOOKUP($A8,'Summary (P)'!$A$16:$E$35,4,0)+$C$3+$R$15 -> 40 | K8: =MAX(1,'Attack Rolls'!C8+$F$1) -> 1 | L8: =RIGHT(VLOOKUP($A8,'Summary (P)'!$A$16:$E$35,5,0),2) -> 1 | M8: 0.15 | N8: 0.05 | Q8: Surprise Rear | R8: 30 | S8: =S7 -> 0 | T8: =T7 -> 0
A9: ='Summary (P)'!A21 -> Tulwar | B9: =VLOOKUP($A9,'Summary (P)'!$A$16:$E$35,3,0) -> 16 | E9: =IF(C9="","",$J9-$K9) | F9: =IF(D9="","",D9+L9+$F$3+$T$15) | G9: =IF(C9="","",MAX(0,$J9-TRUNC($K9/$M9,0))) | H9: =IF(C9="","",MAX(0,$J9-($K9/$N9))) | I9: =VLOOKUP($A9,'Summary (P)'!$A$16:$E$35,5,0) -> 4 | J9: =VLOOKUP($A9,'Summary (P)'!$A$16:$E$35,4,0)+$C$3+$R$15 -> 50 | K9: =MAX(1,'Attack Rolls'!C9+$F$1) -> 1 | L9: =RIGHT(VLOOKUP($A9,'Summary (P)'!$A$16:$E$35,5,0),2) -> 4 | M9: 0.15 | N9: 0.05
A10: ='Summary (P)'!A22 -> Sabre | B10: =VLOOKUP($A10,'Summary (P)'!$A$16:$E$35,3,0) -> 16 | E10: =IF(C10="","",$J10-$K10) | F10: =IF(D10="","",D10+L10+$F$3+$T$15) | G10: =IF(C10="","",MAX(0,$J10-TRUNC($K10/$M10,0))) | H10: =IF(C10="","",MAX(0,$J10-($K10/$N10))) | I10: =VLOOKUP($A10,'Summary (P)'!$A$16:$E$35,5,0) -> 3 | J10: =VLOOKUP($A10,'Summary (P)'!$A$16:$E$35,4,0)+$C$3+$R$15 -> 60 | K10: =MAX(1,'Attack Rolls'!C10+$F$1) -> 1 | L10: =RIGHT(VLOOKUP($A10,'Summary (P)'!$A$16:$E$35,5,0),2) -> 3 | M10: 0.15 | N10: 0.05
A11: ='Summary (P)'!A23 -> Broadsword | B11: =VLOOKUP($A11,'Summary (P)'!$A$16:$E$35,3,0) -> 16 | E11: =IF(C11="","",$J11-$K11) | F11: =IF(D11="","",D11+L11+$F$3+$T$15) | G11: =IF(C11="","",MAX(0,$J11-TRUNC($K11/$M11,0))) | H11: =IF(C11="","",MAX(0,$J11-($K11/$N11))) | I11: =VLOOKUP($A11,'Summary (P)'!$A$16:$E$35,5,0) -> 4 | J11: =VLOOKUP($A11,'Summary (P)'!$A$16:$E$35,4,0)+$C$3+$R$15 -> 55 | K11: =MAX(1,'Attack Rolls'!C11+$F$1) -> 1 | L11: =RIGHT(VLOOKUP($A11,'Summary (P)'!$A$16:$E$35,5,0),2) -> 4 | M11: 0.15 | N11: 0.05
A12: ='Summary (P)'!A24 -> Estoc | B12: =VLOOKUP($A12,'Summary (P)'!$A$16:$E$35,3,0) -> 16 | E12: =IF(C12="","",$J12-$K12) | F12: =IF(D12="","",D12+L12+$F$3+$T$15) | G12: =IF(C12="","",MAX(0,$J12-TRUNC($K12/$M12,0))) | H12: =IF(C12="","",MAX(0,$J12-($K12/$N12))) | I12: =VLOOKUP($A12,'Summary (P)'!$A$16:$E$35,5,0) -> 5 | J12: =VLOOKUP($A12,'Summary (P)'!$A$16:$E$35,4,0)+$C$3+$R$15 -> 45 | K12: =MAX(1,'Attack Rolls'!C12+$F$1) -> 1 | L12: =RIGHT(VLOOKUP($A12,'Summary (P)'!$A$16:$E$35,5,0),2) -> 5 | M12: 0.15 | N12: 0.05
A13: ='Summary (P)'!A25 -> War Hammer | B13: =VLOOKUP($A13,'Summary (P)'!$A$16:$E$35,3,0) -> 16 | E13: =IF(C13="","",$J13-$K13) | F13: =IF(D13="","",D13+L13+$F$3+$T$15) | G13: =IF(C13="","",MAX(0,$J13-TRUNC($K13/$M13,0))) | H13: =IF(C13="","",MAX(0,$J13-($K13/$N13))) | I13: =VLOOKUP($A13,'Summary (P)'!$A$16:$E$35,5,0) -> 3 | J13: =VLOOKUP($A13,'Summary (P)'!$A$16:$E$35,4,0)+$C$3+$R$15 -> 45 | K13: =MAX(1,'Attack Rolls'!C13+$F$1) -> 1 | L13: =RIGHT(VLOOKUP($A13,'Summary (P)'!$A$16:$E$35,5,0),2) -> 3 | M13: 0.15 | N13: 0.05
A14: ='Summary (P)'!A26 -> Javelin | B14: =VLOOKUP($A14,'Summary (P)'!$A$16:$E$35,3,0) -> 16 | E14: =IF(C14="","",$J14-$K14) | F14: =IF(D14="","",D14+L14+$F$3+$T$15) | G14: =IF(C14="","",MAX(0,$J14-TRUNC($K14/$M14,0))) | H14: =IF(C14="","",MAX(0,$J14-($K14/$N14))) | I14: =VLOOKUP($A14,'Summary (P)'!$A$16:$E$35,5,0) -> 2 | J14: =VLOOKUP($A14,'Summary (P)'!$A$16:$E$35,4,0)+$C$3+$R$15 -> 45 | K14: =MAX(1,'Attack Rolls'!C14+$F$1) -> 1 | L14: =RIGHT(VLOOKUP($A14,'Summary (P)'!$A$16:$E$35,5,0),2) -> 2 | M14: 0.15 | N14: 0.05
A15: Close: | C15: 0 | F15: 0 | Q15: Effective: | R15: =IFERROR(VLOOKUP($A$2,$Q$3:$T$9,2,FALSE),0) -> 0 | S15: =IFERROR(VLOOKUP($A$2,$Q$3:$T$9,3,FALSE),0) -> 0 | T15: =IFERROR(VLOOKUP($A$2,$Q$3:$T$9,4,FALSE),0) -> 0
A16: Unarmed | B16: =VLOOKUP($A16,'Summary (P)'!$A$16:$K$35,7,0) -> 16 | E16: =IF(C16="","",$J16-$K16) | F16: =IF(D16="","",D16+L16+$F$15+$T$15) | G16: =IF(C16="","",MAX(0,$J16-TRUNC($K16/$M16,0))) | H16: =IF(C16="","",MAX(0,$J16-($K16/$N16))) | I16: =VLOOKUP($A16,'Summary (P)'!$A$16:$E$35,5,0) -> -4 | J16: =VLOOKUP($A16,'Summary (P)'!$A$16:$K$35,8,0)+$C$15+$R$15 -> 22 | K16: =MAX(1,'Attack Rolls'!C16+$F$1) -> 1 | L16: =RIGHT(VLOOKUP($A16,'Summary (P)'!$A$16:$E$35,5,0),2) -> -4 | M16: 0.15 | N16: 0.05
A17: Dagger | B17: =VLOOKUP($A17,'Summary (P)'!$A$16:$K$35,7,0) -> 16 | E17: =IF(C17="","",$J17-$K17) | F17: =IF(D17="","",D17+L17+$F$15+$T$15) | G17: =IF(C17="","",MAX(0,$J17-TRUNC($K17/$M17,0))) | H17: =IF(C17="","",MAX(0,$J17-($K17/$N17))) | I17: =VLOOKUP($A17,'Summary (P)'!$A$16:$E$35,5,0) -> 1 | J17: =VLOOKUP($A17,'Summary (P)'!$A$16:$K$35,8,0)+$C$15+$R$15 -> 40 | K17: =MAX(1,'Attack Rolls'!C17+$F$1) -> 1 | L17: =RIGHT(VLOOKUP($A17,'Summary (P)'!$A$16:$E$35,5,0),2) -> 1 | M17: 0.15 | N17: 0.05
A18: Dagger | B18: =VLOOKUP($A18,'Summary (P)'!$A$16:$K$35,7,0) -> 16 | E18: =IF(C18="","",$J18-$K18) | F18: =IF(D18="","",D18+L18+$F$15+$T$15) | G18: =IF(C18="","",MAX(0,$J18-TRUNC($K18/$M18,0))) | H18: =IF(C18="","",MAX(0,$J18-($K18/$N18))) | I18: =VLOOKUP($A18,'Summary (P)'!$A$16:$E$35,5,0) -> 1 | J18: =VLOOKUP($A18,'Summary (P)'!$A$16:$K$35,8,0)+$C$15+$R$15 -> 40 | K18: =MAX(1,'Attack Rolls'!C18+$F$1) -> 1 | L18: =RIGHT(VLOOKUP($A18,'Summary (P)'!$A$16:$E$35,5,0),2) -> 1 | M18: 0.15 | N18: 0.05
A19: Ranged: | C19: 0 | F19: 0
A20: Crossbow (2) | B20: =VLOOKUP($A20,'Summary (P)'!$A$16:$K$35,10,0) -> #N/A | E20: =IF(C20="","",$J20-$K20) | F20: =IF(D20="","",D20+L20+$F$19+$T$15) | G20: =IF(C20="","",MAX(0,$J20-TRUNC($K20/$M20,0))) | H20: =IF(C20="","",MAX(0,$J20-($K20/$N20))) | I20: =VLOOKUP($A20,'Summary (P)'!$A$16:$E$35,5,0) -> #N/A | J20: =VLOOKUP($A20,'Summary (P)'!$A$16:$K$35,11,0)+$C$19+$R$15 -> #N/A | K20: =MAX(1,'Attack Rolls'!C20+$F$1) -> 1 | L20: =RIGHT(VLOOKUP($A20,'Summary (P)'!$A$16:$E$35,5,0),2) -> #N/A | M20: 0.15 | N20: 0.05
A21: Rock | B21: =VLOOKUP($A21,'Summary (P)'!$A$16:$K$35,10,0) -> #N/A | E21: =IF(C21="","",$J21-$K21) | F21: =IF(D21="","",D21+L21+$F$19+$T$15) | G21: =IF(C21="","",MAX(0,$J21-TRUNC($K21/$M21,0))) | H21: =IF(C21="","",MAX(0,$J21-($K21/$N21))) | I21: =VLOOKUP($A21,'Summary (P)'!$A$16:$E$35,5,0) -> #N/A | J21: =VLOOKUP($A21,'Summary (P)'!$A$16:$K$35,11,0)+$C$19+$R$15 -> #N/A | K21: =MAX(1,'Attack Rolls'!C21+$F$1) -> 1 | L21: =RIGHT(VLOOKUP($A21,'Summary (P)'!$A$16:$E$35,5,0),2) -> #N/A | M21: 0.15 | N21: 0.05
A22: Grenado | B22: =VLOOKUP($A22,'Summary (P)'!$A$16:$K$35,10,0) -> #N/A | E22: =IF(C22="","",$J22-$K22) | F22: =IF(D22="","",D22+L22+$F$19+$T$15) | G22: =IF(C22="","",MAX(0,$J22-TRUNC($K22/$M22,0))) | H22: =IF(C22="","",MAX(0,$J22-($K22/$N22))) | I22: =VLOOKUP($A22,'Summary (P)'!$A$16:$E$35,5,0) -> #N/A | J22: =VLOOKUP($A22,'Summary (P)'!$A$16:$K$35,11,0)+$C$19+$R$15 -> #N/A | K22: =MAX(1,'Attack Rolls'!C22+$F$1) -> 1 | L22: =RIGHT(VLOOKUP($A22,'Summary (P)'!$A$16:$E$35,5,0),2) -> #N/A | M22: 0.15 | N22: 0.05
A24: Damage Tracking | C24: Tired | D24: FT Dmg | E24: EN Dmg | F24: SG Dmg | G24: FT Drain | H24: EN Drain | K24: BETA | L24: This tab should be considered in Beta mode, still working out the bugs and design flaws
A25: Running Total | C25: =SUM(C26:C40) -> 0 | D25: =SUM(D26:D40) -> 0 | E25: =SUM(E26:E40) -> 0 | F25: =SUM(F26:F40) -> 0 | G25: =SUM(G26:G40) -> 0 | H25: =SUM(H26:H40) -> 0 | I25: ='Summary (P)'!P3 | L25: It is designed to help with combat, doing the lookups and math so you just enter your dice rolls and any situational modifiers.
A26: Tired/Spell Casting | C26: 0 | L26: For the strike rolls, it will display the amount of defence required for it not to be a SG/EN/Hit
A27: 10/20 Gut Busters x | C27: =B27*-20 -> 0 | E27: =B27*10 -> 0 | L27: Also trialling the Damage Tracking
A28: Guild Healing Potions (10pt) | D28: 0 | E28: 0
A29: Trollskin (pulses) x | E29: =B29*-1 -> 0
A30: Wounds: | D30: 0 | E30: 0 | F30: 0 | G30: 0 | H30: 0

Sheet Spec Grev
A1: Base Chance | C1: End Dbl | D1: SG Trp | E1: Aim End | F1: Aim SG | G1: Ass. Front | H1: Ass. Rear | I1: Ass. Surp. | J1: Ass. Rk. | L1: Bow Ranges | O1: SC% Pen. | P1: Max Range for: | R1: Roll | S1: Location | T1: Results | U1: Recovery
A2: 1 | B2: 9 | C2: =ROUND($B2*0.15,0) -> 1 | D2: =ROUND($B2*0.05,0) -> 0 | E2: =ROUND($B2*0.2,0) -> 2 | F2: =ROUND($B2*0.1,0) -> 1 | G2: =ROUND($B2*(5+TRUNC($J$2/3,0))/100,0) -> 0 | H2: =ROUND($B2*(5+$J$2)/100,0) -> 0 | I2: =ROUND($B2*(5+$J$2*2)/100,0) -> 0 | J2: =SUMIF(Skills!$A$1:$A$86,"Assassin",Skills!$B$1:$B$86) -> 0 | L2: Hex | M2: Yard | N2: Feet | R2: 01–05 | S2: Arm, Primary | T2: +1 EN Dmg, Bleed 1 EN per pulse. | U2: Healer rk 0 to staunch.
A3: =B2+1 -> 10 | B3: 16 | C3: =ROUND(B3*0.15,0) -> 2 | D3: =ROUND(B3*0.05,0) -> 1 | E3: =ROUND($B3*0.2,0) -> 3 | F3: =ROUND($B3*0.1,0) -> 2 | G3: =ROUND($B3*(5+TRUNC($J$2/3,0))/100,0) -> 1 | H3: =ROUND($B3*(5+$J$2)/100,0) -> 1 | I3: =ROUND($B3*(5+$J$2*2)/100,0) -> 1 | L3: 5 | M3: =ROUND(N3/3,0) -> 8 | N3: 25 | O3: 0 | R3: 06–07 | S3: Arm, Secondary, Elbow | T3: +2 EN Dmg, Arm useless (Weapon tip broken off in elbow joint). +30 to infection. | U3: Healer rk 3 to remove sliver.
A4: =B3+1 -> 17 | B4: 23 | C4: =ROUND(B4*0.15,0) -> 3 | D4: =ROUND(B4*0.05,0) -> 1 | E4: =ROUND($B4*0.2,0) -> 5 | F4: =ROUND($B4*0.1,0) -> 2 | G4: =ROUND($B4*(5+TRUNC($J$2/3,0))/100,0) -> 1 | H4: =ROUND($B4*(5+$J$2)/100,0) -> 1 | I4: =ROUND($B4*(5+$J$2*2)/100,0) -> 1 | L4: =L3+5 -> 10 | M4: =ROUND(N4/3,0) -> 17 | N4: =N3+25 -> 50 | O4: =O3-3 -> -3 | R4: 08–08 | S4: Groin puncture | T4: +3 EN Dmg, -2 TMR. +30 to infection.
A5: =B4+1 -> 24 | B5: 29 | C5: =ROUND(B5*0.15,0) -> 4 | D5: =ROUND(B5*0.05,0) -> 1 | E5: =ROUND($B5*0.2,0) -> 6 | F5: =ROUND($B5*0.1,0) -> 3 | G5: =ROUND($B5*(5+TRUNC($J$2/3,0))/100,0) -> 1 | H5: =ROUND($B5*(5+$J$2)/100,0) -> 1 | I5: =ROUND($B5*(5+$J$2*2)/100,0) -> 1 | L5: =L4+5 -> 15 | M5: =ROUND(N5/3,0) -> 25 | N5: =N4+25 -> 75 | O5: =O4-3 -> -6 | P5: S Thrower | R5: 09–10 | S5: Arm, Secondary | T5: +2 EN Dmg, drop anything in hand.
A6: =B5+1 -> 30 | B6: 36 | C6: =ROUND(B6*0.15,0) -> 5 | D6: =ROUND(B6*0.05,0) -> 2 | E6: =ROUND($B6*0.2,0) -> 7 | F6: =ROUND($B6*0.1,0) -> 4 | G6: =ROUND($B6*(5+TRUNC($J$2/3,0))/100,0) -> 2 | H6: =ROUND($B6*(5+$J$2)/100,0) -> 2 | I6: =ROUND($B6*(5+$J$2*2)/100,0) -> 2 | L6: =L5+5 -> 20 | M6: =ROUND(N6/3,0) -> 33 | N6: =N5+25 -> 100 | O6: =O5-3 -> -9 | R6: 11–11 | S6: Chest, Severed Aorta | T6: Dead
A7: =B6+1 -> 37 | B7: 43 | C7: =ROUND(B7*0.15,0) -> 6 | D7: =ROUND(B7*0.05,0) -> 2 | E7: =ROUND($B7*0.2,0) -> 9 | F7: =ROUND($B7*0.1,0) -> 4 | G7: =ROUND($B7*(5+TRUNC($J$2/3,0))/100,0) -> 2 | H7: =ROUND($B7*(5+$J$2)/100,0) -> 2 | I7: =ROUND($B7*(5+$J$2*2)/100,0) -> 2 | L7: =L6+5 -> 25 | M7: =ROUND(N7/3,0) -> 42 | N7: =N6+25 -> 125 | O7: =O6-3 -> -12 | R7: 12–12 | S7: Torso, Stomach puncture | T7: +3 EN Dmg ,-2 TMR. Stunned for the next pulse, after which you may recover. +20 to infection.
A8: =B7+1 -> 44 | B8: 49 | C8: =ROUND(B8*0.15,0) -> 7 | D8: =ROUND(B8*0.05,0) -> 2 | E8: =ROUND($B8*0.2,0) -> 10 | F8: =ROUND($B8*0.1,0) -> 5 | G8: =ROUND($B8*(5+TRUNC($J$2/3,0))/100,0) -> 2 | H8: =ROUND($B8*(5+$J$2)/100,0) -> 2 | I8: =ROUND($B8*(5+$J$2*2)/100,0) -> 2 | L8: =L7+5 -> 30 | M8: =ROUND(N8/3,0) -> 50 | N8: =N7+25 -> 150 | O8: =O7-3 -> -15 | P8: Self Bow | R8: 13–13 | S8: Eye (1 Brain 2–5 Left 6–10 Right) | T8: 1 = Dead. Eye blinded: +2 EN Dmg, -1 MD, -2 PB, -4 PC, -30% SC missile or thrown.
A9: =B8+1 -> 50 | B9: 56 | C9: =ROUND(B9*0.15,0) -> 8 | D9: =ROUND(B9*0.05,0) -> 3 | E9: =ROUND($B9*0.2,0) -> 11 | F9: =ROUND($B9*0.1,0) -> 6 | G9: =ROUND($B9*(5+TRUNC($J$2/3,0))/100,0) -> 3 | H9: =ROUND($B9*(5+$J$2)/100,0) -> 3 | I9: =ROUND($B9*(5+$J$2*2)/100,0) -> 3 | L9: =L8+5 -> 35 | M9: =ROUND(N9/3,0) -> 58 | N9: =N8+25 -> 175 | O9: =O8-3 -> -18 | R9: 14–18 | S9: Torso, Solid viscera | T9: +3 EN Dmg, Bleed 1 EN per pulse. +30 to infection. | U9: Healer rk 2 to staunch.
A10: =B9+1 -> 57 | B10: 63 | C10: =ROUND(B10*0.15,0) -> 9 | D10: =ROUND(B10*0.05,0) -> 3 | E10: =ROUND($B10*0.2,0) -> 13 | F10: =ROUND($B10*0.1,0) -> 6 | G10: =ROUND($B10*(5+TRUNC($J$2/3,0))/100,0) -> 3 | H10: =ROUND($B10*(5+$J$2)/100,0) -> 3 | I10: =ROUND($B10*(5+$J$2*2)/100,0) -> 3 | L10: =L9+5 -> 40 | M10: =ROUND(N10/3,0) -> 67 | N10: =N9+25 -> 200 | O10: =O9-3 -> -21 | R10: 19–20 | S10: Leg - thigh muscle | T10: +1 EN Dmg, -1 TMR
A11: =B10+1 -> 64 | B11: 69 | C11: =ROUND(B11*0.15,0) -> 10 | D11: =ROUND(B11*0.05,0) -> 3 | E11: =ROUND($B11*0.2,0) -> 14 | F11: =ROUND($B11*0.1,0) -> 7 | G11: =ROUND($B11*(5+TRUNC($J$2/3,0))/100,0) -> 3 | H11: =ROUND($B11*(5+$J$2)/100,0) -> 3 | I11: =ROUND($B11*(5+$J$2*2)/100,0) -> 3 | L11: =L10+5 -> 45 | M11: =ROUND(N11/3,0) -> 75 | N11: =N10+25 -> 225 | O11: =O10-3 -> -24 | P11: Giant Bow | R11: 21–25 | S11: Chest, ribs | T11: +2 EN Dmg, -1 TMR Weapon caught rib cage, wrenched from their grasp.
A12: =B11+1 -> 70 | B12: 76 | C12: =ROUND(B12*0.15,0) -> 11 | D12: =ROUND(B12*0.05,0) -> 4 | E12: =ROUND($B12*0.2,0) -> 15 | F12: =ROUND($B12*0.1,0) -> 8 | G12: =ROUND($B12*(5+TRUNC($J$2/3,0))/100,0) -> 4 | H12: =ROUND($B12*(5+$J$2)/100,0) -> 4 | I12: =ROUND($B12*(5+$J$2*2)/100,0) -> 4 | L12: =L11+5 -> 50 | M12: =ROUND(N12/3,0) -> 83 | N12: =N11+25 -> 250 | O12: =O11-3 -> -27 | R12: 26–27 | S12: Hand, Secondary severed at wrist | T12: +2 EN Dmg, Bleed 1 FT per pulse, -2 MD | U12: Healer rk 0 to staunch.
A13: =B12+1 -> 77 | B13: 83 | C13: =ROUND(B13*0.15,0) -> 12 | D13: =ROUND(B13*0.05,0) -> 4 | E13: =ROUND($B13*0.2,0) -> 17 | F13: =ROUND($B13*0.1,0) -> 8 | G13: =ROUND($B13*(5+TRUNC($J$2/3,0))/100,0) -> 4 | H13: =ROUND($B13*(5+$J$2)/100,0) -> 4 | I13: =ROUND($B13*(5+$J$2*2)/100,0) -> 4 | L13: =L12+5 -> 55 | M13: =ROUND(N13/3,0) -> 92 | N13: =N12+25 -> 275 | O13: =O12-3 -> -30 | R13: 28–30 | S13: Hand, Primary severed at wrist | T13: +2 EN Dmg, Bleed 1 FT per pulse, -2 MD | U13: Healer rk 0 to staunch.
A14: =B13+1 -> 84 | B14: 89 | C14: =ROUND(B14*0.15,0) -> 13 | D14: =ROUND(B14*0.05,0) -> 4 | E14: =ROUND($B14*0.2,0) -> 18 | F14: =ROUND($B14*0.1,0) -> 9 | G14: =ROUND($B14*(5+TRUNC($J$2/3,0))/100,0) -> 4 | H14: =ROUND($B14*(5+$J$2)/100,0) -> 4 | I14: =ROUND($B14*(5+$J$2*2)/100,0) -> 4 | L14: =L13+5 -> 60 | M14: =ROUND(N14/3,0) -> 100 | N14: =N13+25 -> 300 | O14: =O13-3 -> -33 | P14: Short, Sling | R14: 31–34 | S14: Head, Face slash | T14: -4 PB
A15: =B14+1 -> 90 | B15: 96 | C15: =ROUND(B15*0.15,0) -> 14 | D15: =ROUND(B15*0.05,0) -> 5 | E15: =ROUND($B15*0.2,0) -> 19 | F15: =ROUND($B15*0.1,0) -> 10 | G15: =ROUND($B15*(5+TRUNC($J$2/3,0))/100,0) -> 5 | H15: =ROUND($B15*(5+$J$2)/100,0) -> 5 | I15: =ROUND($B15*(5+$J$2*2)/100,0) -> 5 | L15: =L14+5 -> 65 | M15: =ROUND(N15/3,0) -> 108 | N15: =N14+25 -> 325 | O15: =O14-3 -> -36 | R15: 35–35 | S15: Arm, Secondary severed at shoulder | T15: +5 EN Dmg, Bleed 1 FT per pulse, -2 MD, -1 AG | U15: Healer rk 1 to staunch.
A16: =B15+1 -> 97 | B16: 103 | C16: =ROUND(B16*0.15,0) -> 15 | D16: =ROUND(B16*0.05,0) -> 5 | E16: =ROUND($B16*0.2,0) -> 21 | F16: =ROUND($B16*0.1,0) -> 10 | G16: =ROUND($B16*(5+TRUNC($J$2/3,0))/100,0) -> 5 | H16: =ROUND($B16*(5+$J$2)/100,0) -> 5 | I16: =ROUND($B16*(5+$J$2*2)/100,0) -> 5 | L16: =L15+5 -> 70 | M16: =ROUND(N16/3,0) -> 117 | N16: =N15+25 -> 350 | O16: =O15-3 -> -39 | R16: 36–36 | S16: Arm, Primary severed at shoulder | T16: +5 EN Dmg, Bleed 1 FT per pulse, -2 MD, -1 AG | U16: Healer rk 1 to staunch.
A17: =B16+1 -> 104 | B17: 109 | C17: =ROUND(B17*0.15,0) -> 16 | D17: =ROUND(B17*0.05,0) -> 5 | E17: =ROUND($B17*0.2,0) -> 22 | F17: =ROUND($B17*0.1,0) -> 11 | G17: =ROUND($B17*(5+TRUNC($J$2/3,0))/100,0) -> 5 | H17: =ROUND($B17*(5+$J$2)/100,0) -> 5 | I17: =ROUND($B17*(5+$J$2*2)/100,0) -> 5 | L17: =L16+5 -> 75 | M17: =ROUND(N17/3,0) -> 125 | N17: =N16+25 -> 375 | O17: =O16-3 -> -42 | R17: 37–40 | S17: Torso, Eviscerated | T17: +4 EN Dmg, Bleed 1 FT per pulse. +40 to infection. | U17: Healer rk 2 to staunch.
A18: =B17+1 -> 110 | B18: 116 | C18: =ROUND(B18*0.15,0) -> 17 | D18: =ROUND(B18*0.05,0) -> 6 | E18: =ROUND($B18*0.2,0) -> 23 | F18: =ROUND($B18*0.1,0) -> 12 | G18: =ROUND($B18*(5+TRUNC($J$2/3,0))/100,0) -> 6 | H18: =ROUND($B18*(5+$J$2)/100,0) -> 6 | I18: =ROUND($B18*(5+$J$2*2)/100,0) -> 6 | L18: =L17+5 -> 80 | M18: =ROUND(N18/3,0) -> 133 | N18: =N17+25 -> 400 | O18: =O17-3 -> -45 | P18: X-Bow | R18: 41–42 | S18: Head, scalp & sever one ear | T18: +2 EN Dmg, -2 PC
A19: =B18+1 -> 117 | B19: 123 | C19: =ROUND(B19*0.15,0) -> 18 | D19: =ROUND(B19*0.05,0) -> 6 | E19: =ROUND($B19*0.2,0) -> 25 | F19: =ROUND($B19*0.1,0) -> 12 | G19: =ROUND($B19*(5+TRUNC($J$2/3,0))/100,0) -> 6 | H19: =ROUND($B19*(5+$J$2)/100,0) -> 6 | I19: =ROUND($B19*(5+$J$2*2)/100,0) -> 6 | L19: =L18+5 -> 85 | M19: =ROUND(N19/3,0) -> 142 | N19: =N18+25 -> 425 | O19: =O18-3 -> -48 | R19: 43–43 | S19: Head, cheek & jaw | T19: Take an automatic pass action next pulse due to the shock of the blow. +1 PB
A20: =B19+1 -> 124 | B20: 129 | C20: =ROUND(B20*0.15,0) -> 19 | D20: =ROUND(B20*0.05,0) -> 6 | E20: =ROUND($B20*0.2,0) -> 26 | F20: =ROUND($B20*0.1,0) -> 13 | G20: =ROUND($B20*(5+TRUNC($J$2/3,0))/100,0) -> 6 | H20: =ROUND($B20*(5+$J$2)/100,0) -> 6 | I20: =ROUND($B20*(5+$J$2*2)/100,0) -> 6 | L20: =L19+5 -> 90 | M20: =ROUND(N20/3,0) -> 150 | N20: =N19+25 -> 450 | O20: =O19-3 -> -51 | P20: H X-Bow | R20: 44–50 | S20: Arm slash | T20: +2 EN Dmg, Bleed 1 FT per pulse. | U20: Healer rk 1 to staunch.
A21: =B20+1 -> 130 | B21: 136 | C21: =ROUND(B21*0.15,0) -> 20 | D21: =ROUND(B21*0.05,0) -> 7 | E21: =ROUND($B21*0.2,0) -> 27 | F21: =ROUND($B21*0.1,0) -> 14 | G21: =ROUND($B21*(5+TRUNC($J$2/3,0))/100,0) -> 7 | H21: =ROUND($B21*(5+$J$2)/100,0) -> 7 | I21: =ROUND($B21*(5+$J$2*2)/100,0) -> 7 | L21: =L20+5 -> 95 | M21: =ROUND(N21/3,0) -> 158 | N21: =N20+25 -> 475 | O21: =O20-3 -> -54 | R21: 51–52 | S21: Leg Hamstrung (1-4 left 5-10 right) | T21: +4 EN Dmg, fall prone - may not stand unassisted. -3 AG
A22: =B21+1 -> 137 | B22: 143 | C22: =ROUND(B22*0.15,0) -> 21 | D22: =ROUND(B22*0.05,0) -> 7 | E22: =ROUND($B22*0.2,0) -> 29 | F22: =ROUND($B22*0.1,0) -> 14 | G22: =ROUND($B22*(5+TRUNC($J$2/3,0))/100,0) -> 7 | H22: =ROUND($B22*(5+$J$2)/100,0) -> 7 | I22: =ROUND($B22*(5+$J$2*2)/100,0) -> 7 | L22: =L21+5 -> 100 | M22: =ROUND(N22/3,0) -> 167 | N22: =N21+25 -> 500 | O22: =O21-3 -> -57 | R22: 53–60 | S22: Arm, Primary crippled | T22: +2 EN Dmg, drop anything in hand. Arm unusable.
A23: =B22+1 -> 144 | B23: 149 | C23: =ROUND(B23*0.15,0) -> 22 | D23: =ROUND(B23*0.05,0) -> 7 | E23: =ROUND($B23*0.2,0) -> 30 | F23: =ROUND($B23*0.1,0) -> 15 | G23: =ROUND($B23*(5+TRUNC($J$2/3,0))/100,0) -> 7 | H23: =ROUND($B23*(5+$J$2)/100,0) -> 7 | I23: =ROUND($B23*(5+$J$2*2)/100,0) -> 7 | L23: =L22+5 -> 105 | M23: =ROUND(N23/3,0) -> 175 | N23: =N22+25 -> 525 | O23: =O22-3 -> -60 | R23: 61–67 | S23: Arm, Secondary crippled | T23: +2 EN Dmg, drop anything in hand. Arm unusable.
A24: =B23+1 -> 150 | B24: 156 | C24: =ROUND(B24*0.15,0) -> 23 | D24: =ROUND(B24*0.05,0) -> 8 | E24: =ROUND($B24*0.2,0) -> 31 | F24: =ROUND($B24*0.1,0) -> 16 | G24: =ROUND($B24*(5+TRUNC($J$2/3,0))/100,0) -> 8 | H24: =ROUND($B24*(5+$J$2)/100,0) -> 8 | I24: =ROUND($B24*(5+$J$2*2)/100,0) -> 8 | L24: =L23+5 -> 110 | M24: =ROUND(N24/3,0) -> 183 | N24: =N23+25 -> 550 | O24: =O23-3 -> -63 | R24: 68–69 | S24: Shoulder/neck (1–3 head 4–6 sec 7–10 prim) | T24: Head severed = Dead. Or collar bone crushed +4 EN Dmg, drop anything in hand. Arm unusable.
A25: =B24+1 -> 157 | B25: 163 | C25: =ROUND(B25*0.15,0) -> 24 | D25: =ROUND(B25*0.05,0) -> 8 | E25: =ROUND($B25*0.2,0) -> 33 | F25: =ROUND($B25*0.1,0) -> 16 | G25: =ROUND($B25*(5+TRUNC($J$2/3,0))/100,0) -> 8 | H25: =ROUND($B25*(5+$J$2)/100,0) -> 8 | I25: =ROUND($B25*(5+$J$2*2)/100,0) -> 8 | L25: =L24+5 -> 115 | M25: =ROUND(N25/3,0) -> 192 | N25: =N24+25 -> 575 | O25: =O24-3 -> -66 | R25: 70–74 | S25: Head, helmet concussion | T25: +3 EN Dmg, -4 MD, -4 AG
A26: =B25+1 -> 164 | B26: 169 | C26: =ROUND(B26*0.15,0) -> 25 | D26: =ROUND(B26*0.05,0) -> 8 | E26: =ROUND($B26*0.2,0) -> 34 | F26: =ROUND($B26*0.1,0) -> 17 | G26: =ROUND($B26*(5+TRUNC($J$2/3,0))/100,0) -> 8 | H26: =ROUND($B26*(5+$J$2)/100,0) -> 8 | I26: =ROUND($B26*(5+$J$2*2)/100,0) -> 8 | L26: =L25+5 -> 120 | M26: =ROUND(N26/3,0) -> 200 | N26: =N25+25 -> 600 | O26: =O25-3 -> -69 | R26: 75–80 | S26: Chest (broken ribs, crushed tissue) | T26: +5 EN Dmg, -3 MD, -3 AG, +10 to infection.
A27: =B26+1 -> 170 | B27: 176 | C27: =ROUND(B27*0.15,0) -> 26 | D27: =ROUND(B27*0.05,0) -> 9 | E27: =ROUND($B27*0.2,0) -> 35 | F27: =ROUND($B27*0.1,0) -> 18 | G27: =ROUND($B27*(5+TRUNC($J$2/3,0))/100,0) -> 9 | H27: =ROUND($B27*(5+$J$2)/100,0) -> 9 | I27: =ROUND($B27*(5+$J$2*2)/100,0) -> 9 | L27: =L26+5 -> 125 | M27: =ROUND(N27/3,0) -> 208 | N27: =N26+25 -> 625 | O27: =O26-3 -> -72 | R27: 81–84 | S27: Torso (smashes tissue, internal injuries) | T27: +2 EN Dmg, Bleed 1 FT per pulse. | U27: Healer rk 2 to staunch.
A28: =B27+1 -> 177 | B28: 183 | C28: =ROUND(B28*0.15,0) -> 27 | D28: =ROUND(B28*0.05,0) -> 9 | E28: =ROUND($B28*0.2,0) -> 37 | F28: =ROUND($B28*0.1,0) -> 18 | G28: =ROUND($B28*(5+TRUNC($J$2/3,0))/100,0) -> 9 | H28: =ROUND($B28*(5+$J$2)/100,0) -> 9 | I28: =ROUND($B28*(5+$J$2*2)/100,0) -> 9 | L28: =L27+5 -> 130 | M28: =ROUND(N28/3,0) -> 217 | N28: =N27+25 -> 650 | O28: =O27-3 -> -75 | R28: 85–87 | S28: Arm, Primary (Shoulder) | T28: +2 EN Dmg, Arm useless D10 pulses, drop anything in hand.
A29: =B28+1 -> 184 | B29: 189 | C29: =ROUND(B29*0.15,0) -> 28 | D29: =ROUND(B29*0.05,0) -> 9 | E29: =ROUND($B29*0.2,0) -> 38 | F29: =ROUND($B29*0.1,0) -> 19 | G29: =ROUND($B29*(5+TRUNC($J$2/3,0))/100,0) -> 9 | H29: =ROUND($B29*(5+$J$2)/100,0) -> 9 | I29: =ROUND($B29*(5+$J$2*2)/100,0) -> 9 | L29: =L28+5 -> 135 | M29: =ROUND(N29/3,0) -> 225 | N29: =N28+25 -> 675 | O29: =O28-3 -> -78 | R29: 88–89 | S29: Arm, Secondary (Shoulder) | T29: +2 EN Dmg, Arm useless D10 pulses, drop anything in hand.
A30: =B29+1 -> 190 | B30: 196 | C30: =ROUND(B30*0.15,0) -> 29 | D30: =ROUND(B30*0.05,0) -> 10 | E30: =ROUND($B30*0.2,0) -> 39 | F30: =ROUND($B30*0.1,0) -> 20 | G30: =ROUND($B30*(5+TRUNC($J$2/3,0))/100,0) -> 10 | H30: =ROUND($B30*(5+$J$2)/100,0) -> 10 | I30: =ROUND($B30*(5+$J$2*2)/100,0) -> 10 | L30: =L29+5 -> 140 | M30: =ROUND(N30/3,0) -> 233 | N30: =N29+25 -> 700 | O30: =O29-3 -> -81 | R30: 90–92 | S30: Hip, Right smashed | T30: +5 EN Dmg, fall prone, unable to walk, -1 TMR -2AG.
A31: =B30+1 -> 197 | B31: 203 | C31: =ROUND(B31*0.15,0) -> 30 | D31: =ROUND(B31*0.05,0) -> 10 | E31: =ROUND($B31*0.2,0) -> 41 | F31: =ROUND($B31*0.1,0) -> 20 | G31: =ROUND($B31*(5+TRUNC($J$2/3,0))/100,0) -> 10 | H31: =ROUND($B31*(5+$J$2)/100,0) -> 10 | I31: =ROUND($B31*(5+$J$2*2)/100,0) -> 10 | L31: =L30+5 -> 145 | M31: =ROUND(N31/3,0) -> 242 | N31: =N30+25 -> 725 | O31: =O30-3 -> -84 | R31: 93–94 | S31: Hip, Left smashed | T31: +5 EN Dmg, fall prone, unable to walk, -1 TMR -2AG.
A32: =B31+1 -> 204 | B32: 209 | C32: =ROUND(B32*0.15,0) -> 31 | D32: =ROUND(B32*0.05,0) -> 10 | E32: =ROUND($B32*0.2,0) -> 42 | F32: =ROUND($B32*0.1,0) -> 21 | G32: =ROUND($B32*(5+TRUNC($J$2/3,0))/100,0) -> 10 | H32: =ROUND($B32*(5+$J$2)/100,0) -> 10 | I32: =ROUND($B32*(5+$J$2*2)/100,0) -> 10 | L32: =L31+5 -> 150 | M32: =ROUND(N32/3,0) -> 250 | N32: =N31+25 -> 750 | O32: =O31-3 -> -87 | R32: 95–97 | S32: Head, skull fracture | T32: +8 EN Dmg, fall prone, unconscious, -2 AG, -2 MD, -2 PC.
A33: =B32+1 -> 210 | B33: 216 | C33: =ROUND(B33*0.15,0) -> 32 | D33: =ROUND(B33*0.05,0) -> 11 | E33: =ROUND($B33*0.2,0) -> 43 | F33: =ROUND($B33*0.1,0) -> 22 | G33: =ROUND($B33*(5+TRUNC($J$2/3,0))/100,0) -> 11 | H33: =ROUND($B33*(5+$J$2)/100,0) -> 11 | I33: =ROUND($B33*(5+$J$2*2)/100,0) -> 11 | L33: =L32+5 -> 155 | M33: =ROUND(N33/3,0) -> 258 | N33: =N32+25 -> 775 | O33: =O32-3 -> -90 | R33: 98–00 | S33: Pelvis (broken bone/tissue) | T33: +7 EN Dmg, fall prone, WP check to stay conscious. Unable to move.
A34: =B33+1 -> 217 | B34: 223 | C34: =ROUND(B34*0.15,0) -> 33 | D34: =ROUND(B34*0.05,0) -> 11 | E34: =ROUND($B34*0.2,0) -> 45 | F34: =ROUND($B34*0.1,0) -> 22 | G34: =ROUND($B34*(5+TRUNC($J$2/3,0))/100,0) -> 11 | H34: =ROUND($B34*(5+$J$2)/100,0) -> 11 | I34: =ROUND($B34*(5+$J$2*2)/100,0) -> 11 | L34: =L33+5 -> 160 | M34: =ROUND(N34/3,0) -> 267 | N34: =N33+25 -> 800 | O34: =O33-3 -> -93
A35: =B34+1 -> 224 | B35: 229 | C35: =ROUND(B35*0.15,0) -> 34 | D35: =ROUND(B35*0.05,0) -> 11 | E35: =ROUND($B35*0.2,0) -> 46 | F35: =ROUND($B35*0.1,0) -> 23 | G35: =ROUND($B35*(5+TRUNC($J$2/3,0))/100,0) -> 11 | H35: =ROUND($B35*(5+$J$2)/100,0) -> 11 | I35: =ROUND($B35*(5+$J$2*2)/100,0) -> 11 | L35: =L34+5 -> 165 | M35: =ROUND(N35/3,0) -> 275 | N35: =N34+25 -> 825 | O35: =O34-3 -> -96
A36: =B35+1 -> 230 | B36: 236 | C36: =ROUND(B36*0.15,0) -> 35 | D36: =ROUND(B36*0.05,0) -> 12 | E36: =ROUND($B36*0.2,0) -> 47 | F36: =ROUND($B36*0.1,0) -> 24 | G36: =ROUND($B36*(5+TRUNC($J$2/3,0))/100,0) -> 12 | H36: =ROUND($B36*(5+$J$2)/100,0) -> 12 | I36: =ROUND($B36*(5+$J$2*2)/100,0) -> 12 | L36: =L35+5 -> 170 | M36: =ROUND(N36/3,0) -> 283 | N36: =N35+25 -> 850 | O36: =O35-3 -> -99
A37: =B36+1 -> 237 | B37: 243 | C37: =ROUND(B37*0.15,0) -> 36 | D37: =ROUND(B37*0.05,0) -> 12 | E37: =ROUND($B37*0.2,0) -> 49 | F37: =ROUND($B37*0.1,0) -> 24 | G37: =ROUND($B37*(5+TRUNC($J$2/3,0))/100,0) -> 12 | H37: =ROUND($B37*(5+$J$2)/100,0) -> 12 | I37: =ROUND($B37*(5+$J$2*2)/100,0) -> 12 | L37: =L36+5 -> 175 | M37: =ROUND(N37/3,0) -> 292 | N37: =N36+25 -> 875 | O37: =O36-3 -> -102
A38: =B37+1 -> 244 | B38: 249 | C38: =ROUND(B38*0.15,0) -> 37 | D38: =ROUND(B38*0.05,0) -> 12 | E38: =ROUND($B38*0.2,0) -> 50 | F38: =ROUND($B38*0.1,0) -> 25 | G38: =ROUND($B38*(5+TRUNC($J$2/3,0))/100,0) -> 12 | H38: =ROUND($B38*(5+$J$2)/100,0) -> 12 | I38: =ROUND($B38*(5+$J$2*2)/100,0) -> 12 | L38: =L37+5 -> 180 | M38: =ROUND(N38/3,0) -> 300 | N38: =N37+25 -> 900 | O38: =O37-3 -> -105 | P38: Longbow
A39: =B38+1 -> 250 | B39: 256 | C39: =ROUND(B39*0.15,0) -> 38 | D39: =ROUND(B39*0.05,0) -> 13 | E39: =ROUND($B39*0.2,0) -> 51 | F39: =ROUND($B39*0.1,0) -> 26 | G39: =ROUND($B39*(5+TRUNC($J$2/3,0))/100,0) -> 13 | H39: =ROUND($B39*(5+$J$2)/100,0) -> 13 | I39: =ROUND($B39*(5+$J$2*2)/100,0) -> 13 | L39: =L38+5 -> 185 | M39: =ROUND(N39/3,0) -> 308 | N39: =N38+25 -> 925 | O39: =O38-3 -> -108
A40: =B39+1 -> 257 | B40: 263 | C40: =ROUND(B40*0.15,0) -> 39 | D40: =ROUND(B40*0.05,0) -> 13 | E40: =ROUND($B40*0.2,0) -> 53 | F40: =ROUND($B40*0.1,0) -> 26 | G40: =ROUND($B40*(5+TRUNC($J$2/3,0))/100,0) -> 13 | H40: =ROUND($B40*(5+$J$2)/100,0) -> 13 | I40: =ROUND($B40*(5+$J$2*2)/100,0) -> 13 | L40: =L39+5 -> 190 | M40: =ROUND(N40/3,0) -> 317 | N40: =N39+25 -> 950 | O40: =O39-3 -> -111
...

Sheet Bonuses
B1: Modifiers | C1: Encum. | F1: Character Statistics | P1: Greater Enchantment | T1: Magic Resistance and Protections | AD1: Adventuring Skills | AI1: Combat | AM1: Protection (Def & Armour) | AR1: Melee Only | AU1: Close Only | AX1: Ranged Only | BA1: Other Protections | BL1: Other Bonuses | BO1: Magic use | BW1: Stat Checks
A2: Mark with 'Y' to activate | C2: lbs | D2: NC lbs | E2: Value (sp) | F2: PS | G2: MD | H2: AG | I2: MA | J2: WP | K2: EN | L2: FT | M2: PC | N2: TMR | O2: PB | P2: Combat | Q2: Magic | R2: Skills & Stats | S2: Resistance | T2: Magic Resistance | U2: Magic Resistance vs Demonics | V2: Damage Reduction vs Magic | W2: Damage Reduction vs Elemental | X2: Damage Reduction vs Cold/Ice | Y2: Damage Reduction vs Fire/Heat | Z2: Cold Protection (Temp Gauge) | AA2: Cold Protection (Degrees) | AB2: Heat Protection (Temp Gauge) | AC2: Heat Protection (Degrees) | AD2: Stealth | AE2: Climbing | AF2: Flying | AG2: Horsemanship | AH2: Swimming | AI2: IV Unengaged | AJ2: IV Engaged | AK2: Strike Chance % (All) | AL2: Damage (extra dmg on all weapons) | AM2: Defence % (Base) | AN2: Armour Protection vs Fatigue dmg | AO2: Armour Protection vs Endurance dmg | AP2: Damage Reduction vs All | AQ2: Damage Reduction vs Physical | AR2: IV Melee | AS2: SC Melee | AT2: Def % Melee | AU2: IV Close | AV2: SC Close | AW2: Def % Close | AX2: IV Ranged | AY2: SC Ranged | AZ2: Def % Ranged | BA2: Stun Recovery % | BB2: Dmg required to Stun | BC2: Dmg to -1 in one blow | BD2: Dmg to Kill in one blow | BE2: Death Point (-ve EN) | BF2: Bleeding dmg/pulse Mod | BG2: Poison dmg/pulse Mod | BH2: Infection Chance | BI2: Fear Resistance Rolls | BJ2: Fear Table Roll | BK2: Necrogeny | BL2: Reaction Checks | BM2: Detect Ambush | BN2: Detect Traps | BO2: Spell % | BP2: Talent % | BQ2: Ritual % | BR2: Talent Rks | BS2: Gen Spell Rks | BT2: Gen Ritual Rks | BU2: Spec Spell Rks | BV2: Spec Ritual Rks | BW2: PS Check % | BX2: MD Check % | BY2: AG Check % | BZ2: MA Check % | CA2: WP Check % | CB2: EN Check % | CC2: PC Check %
B3: Current Bonuses | C3: =ROUND(SUMIF($A$4:$A$131,"Y",C$4:C$131),1) -> 25 | D3: =ROUND(SUMIF($A$4:$A$131,"Y",D$4:D$131),1) -> 34.8 | E3: =ROUND(SUMIF($A$4:$A$131,"Y",E$4:E$131),1) -> 862 | F3: =ROUND(SUMIF($A$4:$A$131,"Y",F$4:F$131),1) -> 0 | G3: =ROUND(SUMIF($A$4:$A$131,"Y",G$4:G$131),1) -> -2 | H3: =ROUND(SUMIF($A$4:$A$131,"Y",H$4:H$131),1) -> -1 | I3: =ROUND(SUMIF($A$4:$A$131,"Y",I$4:I$131),1) -> 0 | J3: =ROUND(SUMIF($A$4:$A$131,"Y",J$4:J$131),1) -> 0 | ... CC3: =ROUND(SUMIF($A$4:$A$131,"Y",CC$4:CC$131),1) -> 0
A4: Y | B4: Racial Mods | N4: =VLOOKUP(Setup!$B$3,Setup!$A$30:$N$37,11,FALSE) -> 0 | T4: =VLOOKUP(Setup!$B$3,Setup!$A$30:$N$37,12,FALSE) -> 0 | AD4: =VLOOKUP(Setup!$B$3,Setup!$A$30:$Q$37,17,FALSE) -> 0 | AN4: =VLOOKUP(Setup!$B$3,Setup!$A$30:$N$37,13,FALSE) -> 0
A5: Y | B5: College | I5: =TRUNC(MAX(SUMIF(Magic!B:B,"Purification",Magic!K:K),0)/5,0) -> 0 | T5: =IF(Setup!B4="",20,MAX(SUMIF(Magic!B:B,"Purification",Magic!K:K),0)) -> 20
A6: Y | B6: Always On
A7: Y | B7: Greater Enchantment | T7: =S7 -> 0 | AK7: =P7 -> 0 | BO7: =Q7 -> 0 | BP7: =Q7 -> 0 | BQ7: =Q7 -> 0 | BW7: =$R7 -> 0 | BX7: =$R7 -> 0 | BY7: =$R7 -> 0 | BZ7: =$R7 -> 0 | CA7: =$R7 -> 0 | CB7: =$R7 -> 0 | CC7: =$R7 -> 0
A8: Y | B8: Party Buffs
A9: =Combat!$V$4 -> Y | B9: ="Equipped Shield: "&Combat!$Q$4 -> Equipped Shield: Small Round | C9: =Combat!$T$4 -> 5 | G9: =Combat!$U$4 -> -2
A10: Y | B10: Defence Spell…
B11: Unique talents/abilities that provide bonuses...
B12: ..
B13: ..
B14: ..
B15: Equipment List - the first 36 items show on the Summary
A16: Y | B16: Hard Leather Armour AP 5 Wt 3 AG -1 | C16: =3*Setup!$B$12 -> 18 | E16: 250 | H16: -1 | AD16: 0 | AN16: 5
A17: Y | B17: 2nd Armour/Protection
A18: Y | B18: 3rd Armour/Protection
A19: Y
A20: Y
A21: Y
A22: Y
A23: Y
A24: Y
A25: Y
A26: Y
A27: Y
A28: Y
A29: Y
A30: Y
... A33: Y
B34: =COUNTIF(A118:A131,"Y")&" Wiccan Amulets" -> 0 Wiccan Amulets | C34: =SUMIF($A118:$A131,"Y",C118:C131) -> 0 | D34: =SUMIF($A118:$A131,"Y",D118:D131) -> 0 | E34: =SUMIF($A118:$A131,"Y",E118:E131) -> 0
A35: Y
A36: Y
A37: Y | B37: Newhaven Starter Kit:
A38: Y | B38: Silvered Dagger | C38: 1 | E38: =10*10 -> 100
A39: Y | B39: Waters of Healing D-5+8 2 1 | C39: =0.5*2 -> 1 | E39: =200*2 -> 400
A40: Y | B40: Small Backpack, Leather 20lb capacity | D40: 2 | E40: 6
A41: Y | B41: 50' 1/2" Hemp Rope | D41: 3 | E41: 10
A42: Y | B42: Light blanket | D42: 2 | E42: 25
...

Sheet Combat
A1: FT Dam | B1: ='Summary (P)'!N3 -> 0 | C1: =IF(Stats!H3<=Combat!B1,"OoF! ","") | E1: Stun Rec % | G1: =Stats!$F$3*2+Bonuses!$P$3+Stats!$H$3-$B1+Bonuses!BA3 -> 50 | H1: MR% | I1: =Stats!$F$3+Bonuses!$T$3&"" -> 35 | K1: Warrior | L1: =IF(Skills!$H$58<0,"Un",Skills!$H$58) -> Un | M1: W. IV | N1: =IF(ISERROR($L$1*1),0,$L$1) -> 0 | O1: W. SC | P1: =IF(ISERROR($L$1*1),0,2+$L$1*2) -> 0 | Q1: W. DM | R1: =IF(ISERROR($L$1*1),0,TRUNC($L$1/5,0)) -> 0 | S1: W. Def | T1: =IF(ISERROR($L$1*1),0,2+$L$1*2) -> 0 | V1: Parry: | W1: =IF(ISERROR($L$1*1),0,TRUNC($L$1/4,0)) -> 0 | AA1: Weapon Spell | AB1: Rk | AC1: %+ | AD1: Dmg+ | AE1: Alt Dmg+
A2: EN Dam | B2: ='Summary (P)'!O3 -> 0 | C2: =IF(Stats!$G$3-B2<=I2,"Dead",IF(Stats!$G$3-B2<1,"Uncon.",IF(AND(Stats!$G$3-B2<5,Stats!$G$3>B2),Stats!$G$3-B2&"*WP",""))) | E2: Dmg to Stun: | G2: =TRUNC(Stats!$G$3/3,0)+1+Bonuses!BB3 -> 6 | H2: Die At | I2: =ROUND(Stats!$G$3*-0.5,0)+Bonuses!BE3 -> -8 | J2: (EN) | K2: Mil Sci | L2: =IF(Skills!$H$27<0,"Un",Skills!$H$27) -> Un | AA2: Weapon of Flames | AC2: =IF(AB2<>"",AB2+1,0) -> 0 | AD2: =ROUND(AB2/2,0) -> 0 | AE2: =AB2 -> 0
A3: Unengaged IV | B3: =Stats!$I$3+IF(ISERROR(L2*2),0,L2*2)+Bonuses!$AI$3&" + D10" -> 5 + D10 | E3: Dmg to -1: | G3: =Stats!$H$3+Stats!$G$3+Bonuses!BC3 -> 35 | H3: .. to kill | I3: =Stats!$H$3+ROUND(Stats!$G$3*1.5,0)+Bonuses!BD3 -> 43 | J3: (Shield) | K3: (Evade) | R3: Equipped Shield | S3: Def | T3: Weight | U3: MD | V3: In Use? | AA3: Ench/Spectral Weapon | AC3: =IF(AB3<>"",AB3+1,0) -> 0 | AD3: =CEILING(AB3/3,1) -> 0
A4: Defence | B4: =Stats!$D$3+Bonuses!$AM$3 -> 11 | D4: =B4+Bonuses!$AT$3+$T$1 -> 11 | E4: =$D4+$S4 -> 11 | F4: ="+"&MIN(L7:L15)&"-"&MAX(L7:L15) -> +10-10 | G4: =$B4+Bonuses!$AW$3+$T$1 -> 11 | I4: =$B4+Bonuses!$AZ$3 -> 11 | J4: =$I4+$S4 -> 11 | K4: +20 | Q4: Small Round | S4: =IF(Q4>"",OFFSET(AA6,MATCH(Q4,AA7:AA20,0),2),0) -> 0 | T4: =IFERROR(VLOOKUP($Q$4,$AA$7:$AJ$20,10,FALSE),0) -> 5 | U4: =IFERROR(VLOOKUP($Q$4,$AA$7:$AI$20,9,FALSE),0) -> -2 | V4: Y | AA4: Light/Dark Sword | AC4: =IF(AB4<>"",AB4+1,0) -> 0 | AD4: =IF(AB4<>"",1+CEILING(AB4/3,1),0) -> 0 | AE4: 0
A5: Armour (AP) Ft/En | B5: =Bonuses!$AN$3+Bonuses!AP3+Bonuses!AQ3&" / "&Bonuses!$AO$3+Bonuses!AP3+Bonuses!AQ3 -> 5 / 0 | C5: Melee | E5: (Shield) | F5: (Evade) | G5: Close | I5: Ranged | AA5: Weapon of Cold | AC5: =IF(AB5<>"",AB5+1,0) -> 0 | AD5: =IF(AB5<>"",1+TRUNC(AB5/3,0),0) -> 0 | AE5: =AD5*3 -> 0
A6: Weapon | B6: Rk | C6: IV | D6: SC% | E6: Dam | F6: Class | G6: IV | H6: SC | I6: Rng | J6: IV | K6: SC | L6: Evade+ | M6: Use | N6: % ± | O6: ±Dam | P6: ±IV | Q6: ± Rk | R6: Base Weapon | S6: Rank | T6: Warrior Eff Rk | U6: MD | V6: Diff | W6: PS | X6: Diff | Y6: PS/Rk Dam | Z6: Hands | AA6: Shields | AB6: Rk | AC6: Def | AD6: Base Def | AE6: Def/Rk | AF6: ± Rk | AG6: Weapon | AH6: Rk | AI6: MD Mod | AJ6: Wgt
A7: Unarmed | B7: =IF(ISERROR(S7*1),IF(ISERROR(T7*1),IF(Q7>0,Q7-1,"Un"),T7+Q7),IF(ISERROR(T7*1),S7+Q7,MAX(S7:T7)+Q7)) -> Un | C7: =IF(ISERROR(SEARCH("M",$M7)),"",Stats!$D$3+Stats!$I$3+IF(ISERROR($B7*1),0,$B7)+Bonuses!$AJ$3+Bonuses!$AR$3+$N$1+$P7) -> 16 | D7: =IF(ISERROR(SEARCH("M",$M7)),"",OFFSET(Weapons!$A$1,MATCH($R7,Weapons!$A$1:$A$199,0)-1,4)+IF(ISERROR(1*$B7),0,Stats!$C$3+4*$B7)+Bonuses!$AK$3+Bonuses!$AS$3+$P$1+$N7) -> 22 | E7: =OFFSET(Weapons!$A$1,MATCH($R7,Weapons!$A$1:$A$199,0)-1,7)+IF(Stats!$B$3>15,TRUNC((Stats!$B$3-15)/3),0)+IF(ISERROR(B7*1),0,TRUNC(B7/4))+$R$1+O7+Bonuses!$AL$3 -> -4 | F7: =OFFSET(Weapons!$A$1,MATCH($R7,Weapons!$A$1:$A$199,0)-1,1) -> C | G7: =IF(ISERROR(SEARCH("C",$M7)),"",Stats!$D$3+Stats!$I$3+IF(ISERROR($B7*1),0,$B7)+Bonuses!$AJ$3+Bonuses!$AU$3+$N$1+$P7) -> 16 | H7: =IF(ISERROR(SEARCH("C",$M7)),"",OFFSET(Weapons!$A$1,MATCH($R7,Weapons!$A$1:$A$199,0)-1,4)+IF(ISERROR(1*$B7),0,Stats!$C$3+4*$B7)+Bonuses!$AK$3+Bonuses!$AV$3+$P$1+$N7) -> 22 | I7: =IF(ISERROR(SEARCH("R",$M7)),"",OFFSET(Weapons!$A$1,MATCH($R7,Weapons!$A$1:$A$199,0)-1,2)&" hx") | J7: =IF(ISERROR(SEARCH("R",$M7)),"",Stats!$D$3+Stats!$I$3+IF(ISERROR($B7*1),0,$B7)+Bonuses!$AJ$3+Bonuses!$AX$3+$N$1+$P7) | K7: =IF(ISERROR(SEARCH("R",$M7)),"",OFFSET(Weapons!$A$1,MATCH($R7,Weapons!$A$1:$A$199,0)-1,4)+IF(ISERROR(1*$B7),0,Stats!$C$3+4*$B7)+Bonuses!$AK$3+Bonuses!$AY$3+$P$1+$N7) | L7: =10+IF(ISERROR($B7*1),0,$B7*4) -> 10 | M7: =OFFSET(Weapons!$A$1,MATCH($R7,Weapons!$A$1:$A$199,0)-1,3) -> MC | R7: Unarmed | S7: =OFFSET(Weapons!$A$1,MATCH($R7,Weapons!$A$1:$A$199,0)-1,9) -> Un | T7: =OFFSET(Weapons!$P$2,MATCH($R7,Weapons!$N$1:$N$199,0)-3,0) -> Un | U7: =OFFSET(Weapons!$A$1,MATCH($R7,Weapons!$A$1:$A$199,0)-1,6) -> 1 | V7: =Stats!$C$3-U7 -> 12 | W7: =OFFSET(Weapons!$A$1,MATCH($R7,Weapons!$A$1:$A$199,0)-1,5) -> 1 | X7: =Stats!$B$3-W7 -> 14 | Z7: =OFFSET(Weapons!$A$1,MATCH($R7,Weapons!$A$1:$A$199,0)-1,11) -> 0 | AA7: Main-Gauche | AB7: =IF(ISERROR(AH7*1),"Un",AH7+AF7) -> Un | AC7: =IF(ISERROR(AB7*1),0,AD7+AE7*(1+AB7)) -> 0 | AD7: 0 | AE7: 2 | AG7: Main-Gauche | AH7: =OFFSET(Weapons!$A$1,MATCH($AG7,Weapons!$A$1:$A$199,0)-1,9) -> Un | AI7: 0 | AJ7: 1
A8: =IF(V4="Y",Q4,"Shield Not Equipped") -> Small Round | B8: =IF(ISERROR(S8*1),IF(ISERROR(T8*1),IF(Q8>0,Q8-1,"Un"),T8+Q8),IF(ISERROR(T8*1),S8+Q8,MAX(S8:T8)+Q8)) -> Un | C8: =IF(ISERROR(SEARCH("M",$M8)),"",Stats!$D$3+Stats!$I$3+IF(ISERROR($B8*1),0,$B8)+Bonuses!$AJ$3+Bonuses!$AR$3+$N$1+$P8) -> 16 | D8: =IF(ISERROR(SEARCH("M",$M8)),"",OFFSET(Weapons!$A$1,MATCH($R8,Weapons!$A$1:$A$199,0)-1,4)+IF(ISERROR(1*$B8),0,Stats!$C$3+4*$B8)+Bonuses!$AK$3+Bonuses!$AS$3+$P$1+$N8) -> 40 | E8: =OFFSET(Weapons!$A$1,MATCH($R8,Weapons!$A$1:$A$199,0)-1,7)+Y8+IF("R"=$M8,0,$R$1)+O8+Bonuses!$AL$3 -> -1 | F8: =OFFSET(Weapons!$A$1,MATCH($R8,Weapons!$A$1:$A$199,0)-1,1) -> C | G8: =IF(ISERROR(SEARCH("C",$M8)),"",Stats!$D$3+Stats!$I$3+IF(ISERROR($B8*1),0,$B8)+Bonuses!$AJ$3+Bonuses!$AU$3+$N$1+$P8) | H8: =IF(ISERROR(SEARCH("C",$M8)),"",OFFSET(Weapons!$A$1,MATCH($R8,Weapons!$A$1:$A$199,0)-1,4)+IF(ISERROR(1*$B8),0,Stats!$C$3+4*$B8)+Bonuses!$AK$3+Bonuses!$AV$3+$P$1+$N8) | I8: =IF(ISERROR(SEARCH("R",$M8)),"",OFFSET(Weapons!$A$1,MATCH($R8,Weapons!$A$1:$A$199,0)-1,2)&" hx") | J8: =IF(ISERROR(SEARCH("R",$M8)),"",Stats!$D$3+Stats!$I$3+IF(ISERROR($B8*1),0,$B8)+Bonuses!$AJ$3+Bonuses!$AX$3+$N$1+$P8) | K8: =IF(ISERROR(SEARCH("R",$M8)),"",OFFSET(Weapons!$A$1,MATCH($R8,Weapons!$A$1:$A$199,0)-1,4)+IF(ISERROR(1*$B8),0,Stats!$C$3+4*$B8)+Bonuses!$AK$3+Bonuses!$AY$3+$P$1+$N8) | L8: =10+IF(ISERROR($B8*1),0,$B8*4) -> 10 | M8: =OFFSET(Weapons!$A$1,MATCH($R8,Weapons!$A$1:$A$199,0)-1,3) -> M | R8: Shield | S8: =OFFSET(Weapons!$A$1,MATCH($R8,Weapons!$A$1:$A$199,0)-1,9) -> Un | T8: =OFFSET(Weapons!$P$2,MATCH($R8,Weapons!$N$1:$N$199,0)-3,0) -> Un | U8: =OFFSET(Weapons!$A$1,MATCH($R8,Weapons!$A$1:$A$199,0)-1,6) -> 12 | V8: =Stats!$C$3-U8 -> 1 | W8: =OFFSET(Weapons!$A$1,MATCH($R8,Weapons!$A$1:$A$199,0)-1,5) -> 10 | X8: =Stats!$B$3-W8 -> 5 | Y8: =MAX(TRUNC(X8/5,0),IF(ISERROR(B8*1),0,TRUNC(B8/4,0)))+MIN(0,X8) -> 1 | Z8: =OFFSET(Weapons!$A$1,MATCH($R8,Weapons!$A$1:$A$199,0)-1,11) -> 0 | AA8: Buckler | AB8: =IF(ISERROR(AH8*1),"Un",AH8+AF8) -> Un | AC8: =IF(ISERROR(AB8*1),0,AD8+AE8*(1+AB8)) -> 0 | AD8: 0 | AE8: 2 | AG8: Shield | AH8: =OFFSET(Weapons!$A$1,MATCH($AG8,Weapons!$A$1:$A$199,0)-1,9) -> Un | AI8: 0 | AJ8: 3
A9: =R9 -> Battle Axe | B9: =IF(ISERROR(S9*1),IF(ISERROR(T9*1),IF(Q9>0,Q9-1,"Un"),T9+Q9),IF(ISERROR(T9*1),S9+Q9,MAX(S9:T9)+Q9)) -> Un | C9: =IF(ISERROR(SEARCH("M",$M9)),"",Stats!$D$3+Stats!$I$3+IF(ISERROR($B9*1),0,$B9)+Bonuses!$AJ$3+Bonuses!$AR$3+$N$1+$P9) -> 16 | D9: =IF(ISERROR(SEARCH("M",$M9)),"",OFFSET(Weapons!$A$1,MATCH($R9,Weapons!$A$1:$A$199,0)-1,4)+IF(ISERROR(1*$B9),0,Stats!$C$3+4*$B9)+Bonuses!$AK$3+Bonuses!$AS$3+$P$1+$N9) -> 60 | E9: =OFFSET(Weapons!$A$1,MATCH($R9,Weapons!$A$1:$A$199,0)-1,7)+Y9+IF("R"=$M9,0,$R$1)+O9+Bonuses!$AL$3 -> 4 | F9: =OFFSET(Weapons!$A$1,MATCH($R9,Weapons!$A$1:$A$199,0)-1,1) -> B | G9: =IF(ISERROR(SEARCH("C",$M9)),"",Stats!$D$3+Stats!$I$3+IF(ISERROR($B9*1),0,$B9)+Bonuses!$AJ$3+Bonuses!$AU$3+$N$1+$P9) | H9: =IF(ISERROR(SEARCH("C",$M9)),"",OFFSET(Weapons!$A$1,MATCH($R9,Weapons!$A$1:$A$199,0)-1,4)+IF(ISERROR(1*$B9),0,Stats!$C$3+4*$B9)+Bonuses!$AK$3+Bonuses!$AV$3+$P$1+$N9) | I9: =IF(ISERROR(SEARCH("R",$M9)),"",OFFSET(Weapons!$A$1,MATCH($R9,Weapons!$A$1:$A$199,0)-1,2)&" hx") -> 6 hx | J9: =IF(ISERROR(SEARCH("R",$M9)),"",Stats!$D$3+Stats!$I$3+IF(ISERROR($B9*1),0,$B9)+Bonuses!$AJ$3+Bonuses!$AX$3+$N$1+$P9) -> 16 | K9: =IF(ISERROR(SEARCH("R",$M9)),"",OFFSET(Weapons!$A$1,MATCH($R9,Weapons!$A$1:$A$199,0)-1,4)+IF(ISERROR(1*$B9),0,Stats!$C$3+4*$B9)+Bonuses!$AK$3+Bonuses!$AY$3+$P$1+$N9) -> 60 | L9: =10+IF(ISERROR($B9*1),0,$B9*4) -> 10 | M9: =OFFSET(Weapons!$A$1,MATCH($R9,Weapons!$A$1:$A$199,0)-1,3) -> RM | R9: Battle Axe | S9: =OFFSET(Weapons!$A$1,MATCH($R9,Weapons!$A$1:$A$199,0)-1,9) -> Un | T9: =OFFSET(Weapons!$P$2,MATCH($R9,Weapons!$N$1:$N$199,0)-3,0) -> Un | U9: =OFFSET(Weapons!$A$1,MATCH($R9,Weapons!$A$1:$A$199,0)-1,6) -> 14 | V9: =Stats!$C$3-U9 -> -1 | W9: =OFFSET(Weapons!$A$1,MATCH($R9,Weapons!$A$1:$A$199,0)-1,5) -> 14 | X9: =Stats!$B$3-W9 -> 1 | Y9: =MAX(TRUNC(X9/5,0),IF(ISERROR(B9*1),0,TRUNC(B9/4,0)))+MIN(0,X9) -> 0 | Z9: =OFFSET(Weapons!$A$1,MATCH($R9,Weapons!$A$1:$A$199,0)-1,11) -> 1-2 | AA9: Small Round | AB9: =IF(ISERROR(AH9*1),"Un",AH9+AF9) -> Un | AC9: =IF(ISERROR(AB9*1),0,AD9+AE9*(1+AB9)) -> 0 | AD9: 0 | AE9: 3 | AG9: Shield | AH9: =OFFSET(Weapons!$A$1,MATCH($AG9,Weapons!$A$1:$A$199,0)-1,9) -> Un | AI9: -2 | AJ9: 5
A10: =R10 -> Falchion | B10: =IF(ISERROR(S10*1),IF(ISERROR(T10*1),IF(Q10>0,Q10-1,"Un"),T10+Q10),IF(ISERROR(T10*1),S10+Q10,MAX(S10:T10)+Q10)) -> Un | C10: =IF(ISERROR(SEARCH("M",$M10)),"",Stats!$D$3+Stats!$I$3+IF(ISERROR($B10*1),0,$B10)+Bonuses!$AJ$3+Bonuses!$AR$3+$N$1+$P10) -> 16 | D10: =IF(ISERROR(SEARCH("M",$M10)),"",OFFSET(Weapons!$A$1,MATCH($R10,Weapons!$A$1:$A$199,0)-1,4)+IF(ISERROR(1*$B10),0,Stats!$C$3+4*$B10)+Bonuses!$AK$3+Bonuses!$AS$3+$P$1+$N10) -> 50 | E10: =OFFSET(Weapons!$A$1,MATCH($R10,Weapons!$A$1:$A$199,0)-1,7)+Y10+IF("R"=$M10,0,$R$1)+O10+Bonuses!$AL$3 -> 2 | F10: =OFFSET(Weapons!$A$1,MATCH($R10,Weapons!$A$1:$A$199,0)-1,1) -> B | G10: =IF(ISERROR(SEARCH("C",$M10)),"",Stats!$D$3+Stats!$I$3+IF(ISERROR($B10*1),0,$B10)+Bonuses!$AJ$3+Bonuses!$AU$3+$N$1+$P10) | H10: =IF(ISERROR(SEARCH("C",$M10)),"",OFFSET(Weapons!$A$1,MATCH($R10,Weapons!$A$1:$A$199,0)-1,4)+IF(ISERROR(1*$B10),0,Stats!$C$3+4*$B10)+Bonuses!$AK$3+Bonuses!$AV$3+$P$1+$N10) | I10: =IF(ISERROR(SEARCH("R",$M10)),"",OFFSET(Weapons!$A$1,MATCH($R10,Weapons!$A$1:$A$199,0)-1,2)&" hx") | J10: =IF(ISERROR(SEARCH("R",$M10)),"",Stats!$D$3+Stats!$I$3+IF(ISERROR($B10*1),0,$B10)+Bonuses!$AJ$3+Bonuses!$AX$3+$N$1+$P10) | K10: =IF(ISERROR(SEARCH("R",$M10)),"",OFFSET(Weapons!$A$1,MATCH($R10,Weapons!$A$1:$A$199,0)-1,4)+IF(ISERROR(1*$B10),0,Stats!$C$3+4*$B10)+Bonuses!$AK$3+Bonuses!$AY$3+$P$1+$N10) | L10: =10+IF(ISERROR($B10*1),0,$B10*4) -> 10 | M10: =OFFSET(Weapons!$A$1,MATCH($R10,Weapons!$A$1:$A$199,0)-1,3) -> M | R10: Falchion | S10: =OFFSET(Weapons!$A$1,MATCH($R10,Weapons!$A$1:$A$199,0)-1,9) -> Un | T10: =OFFSET(Weapons!$P$2,MATCH($R10,Weapons!$N$1:$N$199,0)-3,0) -> Un | U10: =OFFSET(Weapons!$A$1,MATCH($R10,Weapons!$A$1:$A$199,0)-1,6) -> 11 | V10: =Stats!$C$3-U10 -> 2 | W10: =OFFSET(Weapons!$A$1,MATCH($R10,Weapons!$A$1:$A$199,0)-1,5) -> 12 | X10: =Stats!$B$3-W10 -> 3 | Y10: =MAX(TRUNC(X10/5,0),IF(ISERROR(B10*1),0,TRUNC(B10/4,0)))+MIN(0,X10) -> 0 | Z10: =OFFSET(Weapons!$A$1,MATCH($R10,Weapons!$A$1:$A$199,0)-1,11) -> 0 | AA10: Large Round | AB10: =IF(ISERROR(AH10*1),"Un",AH10+AF10) -> Un | AC10: =IF(ISERROR(AB10*1),0,AD10+AE10*(1+AB10)) -> 0 | AD10: 0 | AE10: 4 | AG10: Shield | AH10: =OFFSET(Weapons!$A$1,MATCH($AG10,Weapons!$A$1:$A$199,0)-1,9) -> Un | AI10: -3 | AJ10: 10
